Workbook

Sheet はじめに
A1: 支出管理表（家計簿のひな形）
A2: 堺さやま子育て帖（sakaisayama.com）が無料で配っています。
A3: 入っている数字は、架空の家族の例です。
A5: ■ 2つの使い方
A6: 手で書く（スマホ）：「記録」に日付・費目・金額を1行ずつ書きます。
A7: 月に1回、「入力」の「月末の残高」に投資と預金の残高を書きます。
A8: 「ひと目」で見る月を選ぶと、その月のまとめが縦に並びます。
A9: CSV を貼る（PC・月に1回）：マネーフォワード ME の CSV を使います。
A10: 「収入・支出詳細」の CSV を、「明細」の A4 から貼ります。
A11: 分け方は「分け方の表」で決めます。
A12: 現金で払った物だけ「記録」に書きます（同じ物を両方に書かない）。
A14: ■ 最初にする事
... A77: 版：v1.0（2026-10-23）

Sheet ひと目
A1: ひと目
A2: 見る月（1〜12） | B2: 9 | C2: ='入力'!$B$5&"年"&D2&"月" | D2: =IF(B2="",1,MIN(12,MAX(1,ROUND(B2,0))))
A3: この月のメモ | B3: =INDEX('入力'!$F$14:$F$25,$D$2)&""
A4: ■ この月のお金
A5: 入ったお金 | B5: =INDEX('月の表'!$B$15:$M$15,$D$2)
A6: 出たお金 | B6: =INDEX('月の表'!$B$61:$M$61,$D$2)
A7: 収支 | B7: =INDEX('月の表'!$B$64:$M$64,$D$2)
A8: 貯める・増やすへ | B8: =INDEX('月の表'!$B$72:$M$72,$D$2)
A9: 手元に残った | B9: =INDEX('月の表'!$B$74:$M$74,$D$2)
A10: 支出の割合 | B10: =INDEX('月の表'!$B$75:$M$75,$D$2)
A11: 貯めた割合 | B11: =INDEX('月の表'!$B$76:$M$76,$D$2) | C11: ='入力'!$B$7
A13: 費目ごと（この月） | B13: 予算 | C13: 実績 | D13: 差
A14: □ 入るお金
A15: ='月の表'!A5 | B15: =IF(A15="","",'入力'!B30) | C15: =IF(A15="","",INDEX('月の表'!$B5:$M5,$D$2)) | D15: =IF(A15="","",C15-B15)
A16: ='月の表'!A6 | B16: =IF(A16="","",'入力'!B31) | C16: =IF(A16="","",INDEX('月の表'!$B6:$M6,$D$2)) | D16: =IF(A16="","",C16-B16)
A17: ='月の表'!A7 | B17: =IF(A17="","",'入力'!B32) | C17: =IF(A17="","",INDEX('月の表'!$B7:$M7,$D$2)) | D17: =IF(A17="","",C17-B17)
A18: ='月の表'!A8 | B18: =IF(A18="","",'入力'!B33) | C18: =IF(A18="","",INDEX('月の表'!$B8:$M8,$D$2)) | D18: =IF(A18="","",C18-B18)
A19: ='月の表'!A9 | B19: =IF(A19="","",'入力'!B34) | C19: =IF(A19="","",INDEX('月の表'!$B9:$M9,$D$2)) | D19: =IF(A19="","",C19-B19)
A20: ='月の表'!A10 | B20: =IF(A20="","",'入力'!B35) | C20: =IF(A20="","",INDEX('月の表'!$B10:$M10,$D$2)) | D20: =IF(A20="","",C20-B20)
A21: ='月の表'!A11 | B21: =IF(A21="","",'入力'!B36) | C21: =IF(A21="","",INDEX('月の表'!$B11:$M11,$D$2)) | D21: =IF(A21="","",C21-B21)
A22: ='月の表'!A12 | B22: =IF(A22="","",'入力'!B37) | C22: =IF(A22="","",INDEX('月の表'!$B12:$M12,$D$2)) | D22: =IF(A22="","",C22-B22)
A23: ='月の表'!A13 | B23: =IF(A23="","",'入力'!B38) | C23: =IF(A23="","",INDEX('月の表'!$B13:$M13,$D$2)) | D23: =IF(A23="","",C23-B23)
A24: ='月の表'!A14 | B24: =IF(A24="","",'入力'!B39) | C24: =IF(A24="","",INDEX('月の表'!$B14:$M14,$D$2)) | D24: =IF(A24="","",C24-B24)
A25: □ 固定費
A26: ='月の表'!A17 | B26: =IF(A26="","",'入力'!B41) | C26: =IF(A26="","",INDEX('月の表'!$B17:$M17,$D$2)) | D26: =IF(A26="","",B26-C26)
A27: ='月の表'!A18 | B27: =IF(A27="","",'入力'!B42) | C27: =IF(A27="","",INDEX('月の表'!$B18:$M18,$D$2)) | D27: =IF(A27="","",B27-C27)
A28: ='月の表'!A19 | B28: =IF(A28="","",'入力'!B43) | C28: =IF(A28="","",INDEX('月の表'!$B19:$M19,$D$2)) | D28: =IF(A28="","",B28-C28)
A29: ='月の表'!A20 | B29: =IF(A29="","",'入力'!B44) | C29: =IF(A29="","",INDEX('月の表'!$B20:$M20,$D$2)) | D29: =IF(A29="","",B29-C29)
A30: ='月の表'!A21 | B30: =IF(A30="","",'入力'!B45) | C30: =IF(A30="","",INDEX('月の表'!$B21:$M21,$D$2)) | D30: =IF(A30="","",B30-C30)
A31: ='月の表'!A22 | B31: =IF(A31="","",'入力'!B46) | C31: =IF(A31="","",INDEX('月の表'!$B22:$M22,$D$2)) | D31: =IF(A31="","",B31-C31)
A32: ='月の表'!A23 | B32: =IF(A32="","",'入力'!B47) | C32: =IF(A32="","",INDEX('月の表'!$B23:$M23,$D$2)) | D32: =IF(A32="","",B32-C32)
A33: ='月の表'!A24 | B33: =IF(A33="","",'入力'!B48) | C33: =IF(A33="","",INDEX('月の表'!$B24:$M24,$D$2)) | D33: =IF(A33="","",B33-C33)
A34: ='月の表'!A25 | B34: =IF(A34="","",'入力'!B49) | C34: =IF(A34="","",INDEX('月の表'!$B25:$M25,$D$2)) | D34: =IF(A34="","",B34-C34)
A35: ='月の表'!A26 | B35: =IF(A35="","",'入力'!B50) | C35: =IF(A35="","",INDEX('月の表'!$B26:$M26,$D$2)) | D35: =IF(A35="","",B35-C35)
A36: ='月の表'!A27 | B36: =IF(A36="","",'入力'!B51) | C36: =IF(A36="","",INDEX('月の表'!$B27:$M27,$D$2)) | D36: =IF(A36="","",B36-C36)
A37: ='月の表'!A28 | B37: =IF(A37="","",'入力'!B52) | C37: =IF(A37="","",INDEX('月の表'!$B28:$M28,$D$2)) | D37: =IF(A37="","",B37-C37)
A38: □ 暮らしの費用
A39: ='月の表'!A31 | B39: =IF(A39="","",'入力'!B54) | C39: =IF(A39="","",INDEX('月の表'!$B31:$M31,$D$2)) | D39: =IF(A39="","",B39-C39)
A40: ='月の表'!A32 | B40: =IF(A40="","",'入力'!B55) | C40: =IF(A40="","",INDEX('月の表'!$B32:$M32,$D$2)) | D40: =IF(A40="","",B40-C40)
A41: ='月の表'!A33 | B41: =IF(A41="","",'入力'!B56) | C41: =IF(A41="","",INDEX('月の表'!$B33:$M33,$D$2)) | D41: =IF(A41="","",B41-C41)
...

Sheet 記録
A1: 記録（手で書く）
A2: 例です。自分の数字に書きかえる。返金はマイナス。 | E2: 対象の月：遅れて入ったお金を何月の分にするか（空なら日付の月）
A3: 日付 | B3: 費目 | C3: 金額 | D3: メモ | E3: 対象の月 | F3: 数える月（自動） | G3: 確かめ（自動） | H3: 一覧（自動）
A4: 46037 | B4: 管理費・駐車場 | C4: 10000 | D4: 例 | F4: =IF(A4="","",IF(E4<>"",DATE(YEAR(E4),MONTH(E4),1),DATE(YEAR(A4),MONTH(A4),1))) | G4: =IF(A4&B4&C4="","",IF(A4="","日付を入れる",IF(B4="","費目を選ぶ",IF(COUNTIFS($H$4:$H$58,B4)=0,"費目の一覧にない",IF(C4="","金額を入れる",IF(YEAR(F4)<>'入力'!$B$5,"集計の年とちがう","")))))) | H4: ='入力'!A30&""
A5: 46037 | B5: スマホ・ネット | C5: 9800 | D5: 例 | F5: =IF(A5="","",IF(E5<>"",DATE(YEAR(E5),MONTH(E5),1),DATE(YEAR(A5),MONTH(A5),1))) | G5: =IF(A5&B5&C5="","",IF(A5="","日付を入れる",IF(B5="","費目を選ぶ",IF(COUNTIFS($H$4:$H$58,B5)=0,"費目の一覧にない",IF(C5="","金額を入れる",IF(YEAR(F5)<>'入力'!$B$5,"集計の年とちがう","")))))) | H5: ='入力'!A31&""
A6: 46037 | B6: 保険 | C6: 8000 | D6: 例 | F6: =IF(A6="","",IF(E6<>"",DATE(YEAR(E6),MONTH(E6),1),DATE(YEAR(A6),MONTH(A6),1))) | G6: =IF(A6&B6&C6="","",IF(A6="","日付を入れる",IF(B6="","費目を選ぶ",IF(COUNTIFS($H$4:$H$58,B6)=0,"費目の一覧にない",IF(C6="","金額を入れる",IF(YEAR(F6)<>'入力'!$B$5,"集計の年とちがう","")))))) | H6: ='入力'!A32&""
A7: 46037 | B7: 保育料・学童 | C7: 45000 | D7: 例 | F7: =IF(A7="","",IF(E7<>"",DATE(YEAR(E7),MONTH(E7),1),DATE(YEAR(A7),MONTH(A7),1))) | G7: =IF(A7&B7&C7="","",IF(A7="","日付を入れる",IF(B7="","費目を選ぶ",IF(COUNTIFS($H$4:$H$58,B7)=0,"費目の一覧にない",IF(C7="","金額を入れる",IF(YEAR(F7)<>'入力'!$B$5,"集計の年とちがう","")))))) | H7: ='入力'!A33&""
A8: 46037 | B8: サブスク | C8: 2500 | D8: 例 | F8: =IF(A8="","",IF(E8<>"",DATE(YEAR(E8),MONTH(E8),1),DATE(YEAR(A8),MONTH(A8),1))) | G8: =IF(A8&B8&C8="","",IF(A8="","日付を入れる",IF(B8="","費目を選ぶ",IF(COUNTIFS($H$4:$H$58,B8)=0,"費目の一覧にない",IF(C8="","金額を入れる",IF(YEAR(F8)<>'入力'!$B$5,"集計の年とちがう","")))))) | H8: ='入力'!A34&""
A9: 46037 | B9: おこづかい（ママ） | C9: 15000 | D9: 例 | F9: =IF(A9="","",IF(E9<>"",DATE(YEAR(E9),MONTH(E9),1),DATE(YEAR(A9),MONTH(A9),1))) | G9: =IF(A9&B9&C9="","",IF(A9="","日付を入れる",IF(B9="","費目を選ぶ",IF(COUNTIFS($H$4:$H$58,B9)=0,"費目の一覧にない",IF(C9="","金額を入れる",IF(YEAR(F9)<>'入力'!$B$5,"集計の年とちがう","")))))) | H9: ='入力'!A35&""
A10: 46037 | B10: おこづかい（パパ） | C10: 20000 | D10: 例 | F10: =IF(A10="","",IF(E10<>"",DATE(YEAR(E10),MONTH(E10),1),DATE(YEAR(A10),MONTH(A10),1))) | G10: =IF(A10&B10&C10="","",IF(A10="","日付を入れる",IF(B10="","費目を選ぶ",IF(COUNTIFS($H$4:$H$58,B10)=0,"費目の一覧にない",IF(C10="","金額を入れる",IF(YEAR(F10)<>'入力'!$B$5,"集計の年とちがう","")))))) | H10: ='入力'!A36&""
A11: 46037 | B11: 食費（家） | C11: 61000 | D11: 例 | F11: =IF(A11="","",IF(E11<>"",DATE(YEAR(E11),MONTH(E11),1),DATE(YEAR(A11),MONTH(A11),1))) | G11: =IF(A11&B11&C11="","",IF(A11="","日付を入れる",IF(B11="","費目を選ぶ",IF(COUNTIFS($H$4:$H$58,B11)=0,"費目の一覧にない",IF(C11="","金額を入れる",IF(YEAR(F11)<>'入力'!$B$5,"集計の年とちがう","")))))) | H11: ='入力'!A37&""
A12: 46037 | B12: 外食・カフェ | C12: 8000 | D12: 例 | F12: =IF(A12="","",IF(E12<>"",DATE(YEAR(E12),MONTH(E12),1),DATE(YEAR(A12),MONTH(A12),1))) | G12: =IF(A12&B12&C12="","",IF(A12="","日付を入れる",IF(B12="","費目を選ぶ",IF(COUNTIFS($H$4:$H$58,B12)=0,"費目の一覧にない",IF(C12="","金額を入れる",IF(YEAR(F12)<>'入力'!$B$5,"集計の年とちがう","")))))) | H12: ='入力'!A38&""
A13: 46037 | B13: 日用品 | C13: 9000 | D13: 例 | F13: =IF(A13="","",IF(E13<>"",DATE(YEAR(E13),MONTH(E13),1),DATE(YEAR(A13),MONTH(A13),1))) | G13: =IF(A13&B13&C13="","",IF(A13="","日付を入れる",IF(B13="","費目を選ぶ",IF(COUNTIFS($H$4:$H$58,B13)=0,"費目の一覧にない",IF(C13="","金額を入れる",IF(YEAR(F13)<>'入力'!$B$5,"集計の年とちがう","")))))) | H13: ='入力'!A39&""
A14: 46037 | B14: 子どものもの | C14: 12000 | D14: 例 | F14: =IF(A14="","",IF(E14<>"",DATE(YEAR(E14),MONTH(E14),1),DATE(YEAR(A14),MONTH(A14),1))) | G14: =IF(A14&B14&C14="","",IF(A14="","日付を入れる",IF(B14="","費目を選ぶ",IF(COUNTIFS($H$4:$H$58,B14)=0,"費目の一覧にない",IF(C14="","金額を入れる",IF(YEAR(F14)<>'入力'!$B$5,"集計の年とちがう","")))))) | H14: ='入力'!A41&""
A15: 46037 | B15: 服・美容 | C15: 7000 | D15: 例 | F15: =IF(A15="","",IF(E15<>"",DATE(YEAR(E15),MONTH(E15),1),DATE(YEAR(A15),MONTH(A15),1))) | G15: =IF(A15&B15&C15="","",IF(A15="","日付を入れる",IF(B15="","費目を選ぶ",IF(COUNTIFS($H$4:$H$58,B15)=0,"費目の一覧にない",IF(C15="","金額を入れる",IF(YEAR(F15)<>'入力'!$B$5,"集計の年とちがう","")))))) | H15: ='入力'!A42&""
A16: 46037 | B16: 医療・薬 | C16: 3000 | D16: 例 | F16: =IF(A16="","",IF(E16<>"",DATE(YEAR(E16),MONTH(E16),1),DATE(YEAR(A16),MONTH(A16),1))) | G16: =IF(A16&B16&C16="","",IF(A16="","日付を入れる",IF(B16="","費目を選ぶ",IF(COUNTIFS($H$4:$H$58,B16)=0,"費目の一覧にない",IF(C16="","金額を入れる",IF(YEAR(F16)<>'入力'!$B$5,"集計の年とちがう","")))))) | H16: ='入力'!A43&""
A17: 46037 | B17: 交通・ガソリン | C17: 6000 | D17: 例 | F17: =IF(A17="","",IF(E17<>"",DATE(YEAR(E17),MONTH(E17),1),DATE(YEAR(A17),MONTH(A17),1))) | G17: =IF(A17&B17&C17="","",IF(A17="","日付を入れる",IF(B17="","費目を選ぶ",IF(COUNTIFS($H$4:$H$58,B17)=0,"費目の一覧にない",IF(C17="","金額を入れる",IF(YEAR(F17)<>'入力'!$B$5,"集計の年とちがう","")))))) | H17: ='入力'!A44&""
A18: 46037 | B18: おでかけ・レジャー | C18: 10000 | D18: 例 | F18: =IF(A18="","",IF(E18<>"",DATE(YEAR(E18),MONTH(E18),1),DATE(YEAR(A18),MONTH(A18),1))) | G18: =IF(A18&B18&C18="","",IF(A18="","日付を入れる",IF(B18="","費目を選ぶ",IF(COUNTIFS($H$4:$H$58,B18)=0,"費目の一覧にない",IF(C18="","金額を入れる",IF(YEAR(F18)<>'入力'!$B$5,"集計の年とちがう","")))))) | H18: ='入力'!A45&""
A19: 46037 | B19: 交際・プレゼント | C19: 4000 | D19: 例 | F19: =IF(A19="","",IF(E19<>"",DATE(YEAR(E19),MONTH(E19),1),DATE(YEAR(A19),MONTH(A19),1))) | G19: =IF(A19&B19&C19="","",IF(A19="","日付を入れる",IF(B19="","費目を選ぶ",IF(COUNTIFS($H$4:$H$58,B19)=0,"費目の一覧にない",IF(C19="","金額を入れる",IF(YEAR(F19)<>'入力'!$B$5,"集計の年とちがう","")))))) | H19: ='入力'!A46&""
A20: 46037 | B20: 本・学び | C20: 2000 | D20: 例 | F20: =IF(A20="","",IF(E20<>"",DATE(YEAR(E20),MONTH(E20),1),DATE(YEAR(A20),MONTH(A20),1))) | G20: =IF(A20&B20&C20="","",IF(A20="","日付を入れる",IF(B20="","費目を選ぶ",IF(COUNTIFS($H$4:$H$58,B20)=0,"費目の一覧にない",IF(C20="","金額を入れる",IF(YEAR(F20)<>'入力'!$B$5,"集計の年とちがう","")))))) | H20: ='入力'!A47&""
A21: 46037 | B21: 現金で使った | C21: 5000 | D21: 例 | F21: =IF(A21="","",IF(E21<>"",DATE(YEAR(E21),MONTH(E21),1),DATE(YEAR(A21),MONTH(A21),1))) | G21: =IF(A21&B21&C21="","",IF(A21="","日付を入れる",IF(B21="","費目を選ぶ",IF(COUNTIFS($H$4:$H$58,B21)=0,"費目の一覧にない",IF(C21="","金額を入れる",IF(YEAR(F21)<>'入力'!$B$5,"集計の年とちがう","")))))) | H21: ='入力'!A48&""
A22: 46037 | B22: その他 | C22: 2000 | D22: 例 | F22: =IF(A22="","",IF(E22<>"",DATE(YEAR(E22),MONTH(E22),1),DATE(YEAR(A22),MONTH(A22),1))) | G22: =IF(A22&B22&C22="","",IF(A22="","日付を入れる",IF(B22="","費目を選ぶ",IF(COUNTIFS($H$4:$H$58,B22)=0,"費目の一覧にない",IF(C22="","金額を入れる",IF(YEAR(F22)<>'入力'!$B$5,"集計の年とちがう","")))))) | H22: ='入力'!A49&""
A23: 46037 | B23: NISA | C23: 30000 | D23: 例 | F23: =IF(A23="","",IF(E23<>"",DATE(YEAR(E23),MONTH(E23),1),DATE(YEAR(A23),MONTH(A23),1))) | G23: =IF(A23&B23&C23="","",IF(A23="","日付を入れる",IF(B23="","費目を選ぶ",IF(COUNTIFS($H$4:$H$58,B23)=0,"費目の一覧にない",IF(C23="","金額を入れる",IF(YEAR(F23)<>'入力'!$B$5,"集計の年とちがう","")))))) | H23: ='入力'!A50&""
A24: 46037 | B24: iDeCo | C24: 5000 | D24: 例 | F24: =IF(A24="","",IF(E24<>"",DATE(YEAR(E24),MONTH(E24),1),DATE(YEAR(A24),MONTH(A24),1))) | G24: =IF(A24&B24&C24="","",IF(A24="","日付を入れる",IF(B24="","費目を選ぶ",IF(COUNTIFS($H$4:$H$58,B24)=0,"費目の一覧にない",IF(C24="","金額を入れる",IF(YEAR(F24)<>'入力'!$B$5,"集計の年とちがう","")))))) | H24: ='入力'!A51&""
A25: 46037 | B25: 先取り貯金 | C25: 20000 | D25: 例 | F25: =IF(A25="","",IF(E25<>"",DATE(YEAR(E25),MONTH(E25),1),DATE(YEAR(A25),MONTH(A25),1))) | G25: =IF(A25&B25&C25="","",IF(A25="","日付を入れる",IF(B25="","費目を選ぶ",IF(COUNTIFS($H$4:$H$58,B25)=0,"費目の一覧にない",IF(C25="","金額を入れる",IF(YEAR(F25)<>'入力'!$B$5,"集計の年とちがう","")))))) | H25: ='入力'!A52&""
A26: 46042 | B26: 電気・ガス・水道 | C26: 24000 | D26: 例 | F26: =IF(A26="","",IF(E26<>"",DATE(YEAR(E26),MONTH(E26),1),DATE(YEAR(A26),MONTH(A26),1))) | G26: =IF(A26&B26&C26="","",IF(A26="","日付を入れる",IF(B26="","費目を選ぶ",IF(COUNTIFS($H$4:$H$58,B26)=0,"費目の一覧にない",IF(C26="","金額を入れる",IF(YEAR(F26)<>'入力'!$B$5,"集計の年とちがう","")))))) | H26: ='入力'!A54&""
A27: 46047 | B27: 給料の手取り（ママ） | C27: 170000 | D27: 例 | F27: =IF(A27="","",IF(E27<>"",DATE(YEAR(E27),MONTH(E27),1),DATE(YEAR(A27),MONTH(A27),1))) | G27: =IF(A27&B27&C27="","",IF(A27="","日付を入れる",IF(B27="","費目を選ぶ",IF(COUNTIFS($H$4:$H$58,B27)=0,"費目の一覧にない",IF(C27="","金額を入れる",IF(YEAR(F27)<>'入力'!$B$5,"集計の年とちがう","")))))) | H27: ='入力'!A55&""
A28: 46047 | B28: 給料の手取り（パパ） | C28: 400000 | D28: 例 | F28: =IF(A28="","",IF(E28<>"",DATE(YEAR(E28),MONTH(E28),1),DATE(YEAR(A28),MONTH(A28),1))) | G28: =IF(A28&B28&C28="","",IF(A28="","日付を入れる",IF(B28="","費目を選ぶ",IF(COUNTIFS($H$4:$H$58,B28)=0,"費目の一覧にない",IF(C28="","金額を入れる",IF(YEAR(F28)<>'入力'!$B$5,"集計の年とちがう","")))))) | H28: ='入力'!A56&""
A29: 46049 | B29: 住まい（家賃・ローン） | C29: 105000 | D29: 例 | F29: =IF(A29="","",IF(E29<>"",DATE(YEAR(E29),MONTH(E29),1),DATE(YEAR(A29),MONTH(A29),1))) | G29: =IF(A29&B29&C29="","",IF(A29="","日付を入れる",IF(B29="","費目を選ぶ",IF(COUNTIFS($H$4:$H$58,B29)=0,"費目の一覧にない",IF(C29="","金額を入れる",IF(YEAR(F29)<>'入力'!$B$5,"集計の年とちがう","")))))) | H29: ='入力'!A57&""
A30: 46068 | B30: 児童手当 | C30: 30000 | D30: 例 | F30: =IF(A30="","",IF(E30<>"",DATE(YEAR(E30),MONTH(E30),1),DATE(YEAR(A30),MONTH(A30),1))) | G30: =IF(A30&B30&C30="","",IF(A30="","日付を入れる",IF(B30="","費目を選ぶ",IF(COUNTIFS($H$4:$H$58,B30)=0,"費目の一覧にない",IF(C30="","金額を入れる",IF(YEAR(F30)<>'入力'!$B$5,"集計の年とちがう","")))))) | H30: ='入力'!A58&""
A31: 46068 | B31: 管理費・駐車場 | C31: 10000 | D31: 例 | F31: =IF(A31="","",IF(E31<>"",DATE(YEAR(E31),MONTH(E31),1),DATE(YEAR(A31),MONTH(A31),1))) | G31: =IF(A31&B31&C31="","",IF(A31="","日付を入れる",IF(B31="","費目を選ぶ",IF(COUNTIFS($H$4:$H$58,B31)=0,"費目の一覧にない",IF(C31="","金額を入れる",IF(YEAR(F31)<>'入力'!$B$5,"集計の年とちがう","")))))) | H31: ='入力'!A59&""
A32: 46068 | B32: スマホ・ネット | C32: 9800 | D32: 例 | F32: =IF(A32="","",IF(E32<>"",DATE(YEAR(E32),MONTH(E32),1),DATE(YEAR(A32),MONTH(A32),1))) | G32: =IF(A32&B32&C32="","",IF(A32="","日付を入れる",IF(B32="","費目を選ぶ",IF(COUNTIFS($H$4:$H$58,B32)=0,"費目の一覧にない",IF(C32="","金額を入れる",IF(YEAR(F32)<>'入力'!$B$5,"集計の年とちがう","")))))) | H32: ='入力'!A60&""
A33: 46068 | B33: 保険 | C33: 8000 | D33: 例 | F33: =IF(A33="","",IF(E33<>"",DATE(YEAR(E33),MONTH(E33),1),DATE(YEAR(A33),MONTH(A33),1))) | G33: =IF(A33&B33&C33="","",IF(A33="","日付を入れる",IF(B33="","費目を選ぶ",IF(COUNTIFS($H$4:$H$58,B33)=0,"費目の一覧にない",IF(C33="","金額を入れる",IF(YEAR(F33)<>'入力'!$B$5,"集計の年とちがう","")))))) | H33: ='入力'!A61&""
A34: 46068 | B34: 保育料・学童 | C34: 45000 | D34: 例 | F34: =IF(A34="","",IF(E34<>"",DATE(YEAR(E34),MONTH(E34),1),DATE(YEAR(A34),MONTH(A34),1))) | G34: =IF(A34&B34&C34="","",IF(A34="","日付を入れる",IF(B34="","費目を選ぶ",IF(COUNTIFS($H$4:$H$58,B34)=0,"費目の一覧にない",IF(C34="","金額を入れる",IF(YEAR(F34)<>'入力'!$B$5,"集計の年とちがう","")))))) | H34: ='入力'!A62&""
A35: 46068 | B35: サブスク | C35: 2500 | D35: 例 | F35: =IF(A35="","",IF(E35<>"",DATE(YEAR(E35),MONTH(E35),1),DATE(YEAR(A35),MONTH(A35),1))) | G35: =IF(A35&B35&C35="","",IF(A35="","日付を入れる",IF(B35="","費目を選ぶ",IF(COUNTIFS($H$4:$H$58,B35)=0,"費目の一覧にない",IF(C35="","金額を入れる",IF(YEAR(F35)<>'入力'!$B$5,"集計の年とちがう","")))))) | H35: ='入力'!A63&""
A36: 46068 | B36: おこづかい（ママ） | C36: 15000 | D36: 例 | F36: =IF(A36="","",IF(E36<>"",DATE(YEAR(E36),MONTH(E36),1),DATE(YEAR(A36),MONTH(A36),1))) | G36: =IF(A36&B36&C36="","",IF(A36="","日付を入れる",IF(B36="","費目を選ぶ",IF(COUNTIFS($H$4:$H$58,B36)=0,"費目の一覧にない",IF(C36="","金額を入れる",IF(YEAR(F36)<>'入力'!$B$5,"集計の年とちがう","")))))) | H36: ='入力'!A64&""
A37: 46068 | B37: おこづかい（パパ） | C37: 20000 | D37: 例 | F37: =IF(A37="","",IF(E37<>"",DATE(YEAR(E37),MONTH(E37),1),DATE(YEAR(A37),MONTH(A37),1))) | G37: =IF(A37&B37&C37="","",IF(A37="","日付を入れる",IF(B37="","費目を選ぶ",IF(COUNTIFS($H$4:$H$58,B37)=0,"費目の一覧にない",IF(C37="","金額を入れる",IF(YEAR(F37)<>'入力'!$B$5,"集計の年とちがう","")))))) | H37: ='入力'!A65&""
... A40: 46068 | B40: 日用品 | C40: 9000 | D40: 例 | F40: =IF(A40="","",IF(E40<>"",DATE(YEAR(E40),MONTH(E40),1),DATE(YEAR(A40),MONTH(A40),1))) | G40: =IF(A40&B40&C40="","",IF(A40="","日付を入れる",IF(B40="","費目を選ぶ",IF(COUNTIFS($H$4:$H$58,B40)=0,"費目の一覧にない",IF(C40="","金額を入れる",IF(YEAR(F40)<>'入力'!$B$5,"集計の年とちがう","")))))) | H40: ='入力'!A68&""
A41: 46068 | B41: 子どものもの | C41: 12000 | D41: 例 | F41: =IF(A41="","",IF(E41<>"",DATE(YEAR(E41),MONTH(E41),1),DATE(YEAR(A41),MONTH(A41),1))) | G41: =IF(A41&B41&C41="","",IF(A41="","日付を入れる",IF(B41="","費目を選ぶ",IF(COUNTIFS($H$4:$H$58,B41)=0,"費目の一覧にない",IF(C41="","金額を入れる",IF(YEAR(F41)<>'入力'!$B$5,"集計の年とちがう","")))))) | H41: ='入力'!A70&""
A42: 46068 | B42: 服・美容 | C42: 7000 | D42: 例 | F42: =IF(A42="","",IF(E42<>"",DATE(YEAR(E42),MONTH(E42),1),DATE(YEAR(A42),MONTH(A42),1))) | G42: =IF(A42&B42&C42="","",IF(A42="","日付を入れる",IF(B42="","費目を選ぶ",IF(COUNTIFS($H$4:$H$58,B42)=0,"費目の一覧にない",IF(C42="","金額を入れる",IF(YEAR(F42)<>'入力'!$B$5,"集計の年とちがう","")))))) | H42: ='入力'!A71&""
...

Sheet 入力
A1: 入力（年に1回・月に1回 書く所）
A2: 例です。自分の数字に書きかえる。
A4: ■ 基本
A5: 集計する年 | B5: 2026 | F5: ここを変えると全部の年が変わる
A6: 年に数回の数え方 | B6: 払った月 | F6: 支出の割合の数え方を切りかえる
A7: 貯めた割合の目標 | B7: 0.1 | F7: 下回ると赤い字（自分で決める）
A8: 前の年からの繰越 | B8: 60000 | F8: 年に数回の財布の残り
A9: 前の年12月末の投資 | B9: 2050000 | F9: 投資の残高
A10: 前の年12月末の預金 | B10: 1900000 | F10: 預金・現金
A12: ■ 月末の残高（月に1回）
A13: 月 | B13: 投資の残高 | C13: 預金・現金 | D13: 取り崩した額 | E13: ポイントで買った分 | F13: この月のメモ
A14: =DATE($B$5,1,1) | B14: 2080000 | C14: 2070000 | D14: 0 | E14: 0
A15: =DATE($B$5,2,1) | B15: 2120000 | C15: 2230000 | D15: 0 | E15: 1000
A16: =DATE($B$5,3,1) | B16: 2100000 | C16: 2330000 | D16: 0 | E16: 0
A17: =DATE($B$5,4,1) | B17: 2170000 | C17: 2470000 | D17: 0 | E17: 1000
A18: =DATE($B$5,5,1) | B18: 2220000 | C18: 2460000 | D18: 0 | E18: 0
A19: =DATE($B$5,6,1) | B19: 2260000 | C19: 3080000 | D19: 0 | E19: 1000 | F19: 例：賞与が入った
A20: =DATE($B$5,7,1) | B20: 2310000 | C20: 3140000 | D20: 0 | E20: 0
A21: =DATE($B$5,8,1) | B21: 2290000 | C21: 3020000 | D21: 0 | E21: 1000 | F21: 例：2人目が生まれた
A22: =DATE($B$5,9,1) | B22: 2350000 | C22: 3230000 | D22: 0 | E22: 0
A23: =DATE($B$5,10,1)
A24: =DATE($B$5,11,1)
A25: =DATE($B$5,12,1)
A27: ■ 費目と毎月の予算
A28: 費目 | B28: 毎月の予算 | C28: ライフプランでの扱い | D28: メモ | E28: グループ（自動）
A29: □ 入るお金（予算＝毎月の見込み）
A30: 給料の手取り（ママ） | B30: 170000 | E30: 入るお金
A31: 給料の手取り（パパ） | B31: 400000 | E31: 入るお金
A32: 賞与（手取り） | B32: 0 | E32: 入るお金
A33: 育休・産休の給付金 | B33: 0 | E33: 入るお金
A34: 児童手当 | B34: 15000 | E34: 入るお金
A35: 一時金・お祝い | B35: 0 | E35: 入るお金
A36: 副業 | B36: 0 | E36: 入るお金
A37: その他の収入 | B37: 0 | E37: 入るお金
E38: 入るお金
E39: 入るお金
A40: □ 固定費（毎月ほぼ同じ）
A41: 住まい（家賃・ローン） | B41: 105000 | C41: 住まい | E41: 固定費
A42: 管理費・駐車場 | B42: 10000 | E42: 固定費
A43: 電気・ガス・水道 | B43: 22000 | E43: 固定費
...

Sheet 月の表
A1: 月の表（費目×12か月）
A2: ="集計する年："&'入力'!$B$5&"年"
A3: 費目 | B3: =DATE('入力'!$B$5,1,1) | C3: =EOMONTH(B3,0)+1 | D3: =EOMONTH(C3,0)+1 | E3: =EOMONTH(D3,0)+1 | F3: =EOMONTH(E3,0)+1 | G3: =EOMONTH(F3,0)+1 | H3: =EOMONTH(G3,0)+1 | I3: =EOMONTH(H3,0)+1 | J3: =EOMONTH(I3,0)+1 | ... M3: =EOMONTH(L3,0)+1 | N3: 合計 | O3: 月の平均 | P3: 年の予算 | Q3: 予算との差 | R3: 扱い | S3: グループ
A4: □ 入るお金
A5: =IF('入力'!A30="","",'入力'!A30) | B5: =IF($A5="","",SUMIFS('記録'!$C$4:$C$2003,'記録'!$B$4:$B$2003,$A5,'記録'!$F$4:$F$2003,B$3)+SUMIFS('明細'!$T$4:$T$3003,'明細'!$S$4:$S$3003,$A5,'明細'!$M$4:$M$3003,B$3)) | C5: =IF($A5="","",SUMIFS('記録'!$C$4:$C$2003,'記録'!$B$4:$B$2003,$A5,'記録'!$F$4:$F$2003,C$3)+SUMIFS('明細'!$T$4:$T$3003,'明細'!$S$4:$S$3003,$A5,'明細'!$M$4:$M$3003,C$3)) | D5: =IF($A5="","",SUMIFS('記録'!$C$4:$C$2003,'記録'!$B$4:$B$2003,$A5,'記録'!$F$4:$F$2003,D$3)+SUMIFS('明細'!$T$4:$T$3003,'明細'!$S$4:$S$3003,$A5,'明細'!$M$4:$M$3003,D$3)) | E5: =IF($A5="","",SUMIFS('記録'!$C$4:$C$2003,'記録'!$B$4:$B$2003,$A5,'記録'!$F$4:$F$2003,E$3)+SUMIFS('明細'!$T$4:$T$3003,'明細'!$S$4:$S$3003,$A5,'明細'!$M$4:$M$3003,E$3)) | F5: =IF($A5="","",SUMIFS('記録'!$C$4:$C$2003,'記録'!$B$4:$B$2003,$A5,'記録'!$F$4:$F$2003,F$3)+SUMIFS('明細'!$T$4:$T$3003,'明細'!$S$4:$S$3003,$A5,'明細'!$M$4:$M$3003,F$3)) | G5: =IF($A5="","",SUMIFS('記録'!$C$4:$C$2003,'記録'!$B$4:$B$2003,$A5,'記録'!$F$4:$F$2003,G$3)+SUMIFS('明細'!$T$4:$T$3003,'明細'!$S$4:$S$3003,$A5,'明細'!$M$4:$M$3003,G$3)) | H5: =IF($A5="","",SUMIFS('記録'!$C$4:$C$2003,'記録'!$B$4:$B$2003,$A5,'記録'!$F$4:$F$2003,H$3)+SUMIFS('明細'!$T$4:$T$3003,'明細'!$S$4:$S$3003,$A5,'明細'!$M$4:$M$3003,H$3)) | I5: =IF($A5="","",SUMIFS('記録'!$C$4:$C$2003,'記録'!$B$4:$B$2003,$A5,'記録'!$F$4:$F$2003,I$3)+SUMIFS('明細'!$T$4:$T$3003,'明細'!$S$4:$S$3003,$A5,'明細'!$M$4:$M$3003,I$3)) | ... M5: =IF($A5="","",SUMIFS('記録'!$C$4:$C$2003,'記録'!$B$4:$B$2003,$A5,'記録'!$F$4:$F$2003,M$3)+SUMIFS('明細'!$T$4:$T$3003,'明細'!$S$4:$S$3003,$A5,'明細'!$M$4:$M$3003,M$3)) | N5: =IF($A5="","",SUM(B5:M5)) | O5: =IF(($A5="")+(SUM($B$77:$M$77)=0),"",N5/SUM($B$77:$M$77)) | P5: =IF($A5="","",'入力'!B30*12) | Q5: =IF($A5="","",N5-P5) | R5: ='入力'!C30&"" | S5: ='入力'!E30&""
A6: =IF('入力'!A31="","",'入力'!A31) | B6: =IF($A6="","",SUMIFS('記録'!$C$4:$C$2003,'記録'!$B$4:$B$2003,$A6,'記録'!$F$4:$F$2003,B$3)+SUMIFS('明細'!$T$4:$T$3003,'明細'!$S$4:$S$3003,$A6,'明細'!$M$4:$M$3003,B$3)) | C6: =IF($A6="","",SUMIFS('記録'!$C$4:$C$2003,'記録'!$B$4:$B$2003,$A6,'記録'!$F$4:$F$2003,C$3)+SUMIFS('明細'!$T$4:$T$3003,'明細'!$S$4:$S$3003,$A6,'明細'!$M$4:$M$3003,C$3)) | D6: =IF($A6="","",SUMIFS('記録'!$C$4:$C$2003,'記録'!$B$4:$B$2003,$A6,'記録'!$F$4:$F$2003,D$3)+SUMIFS('明細'!$T$4:$T$3003,'明細'!$S$4:$S$3003,$A6,'明細'!$M$4:$M$3003,D$3)) | E6: =IF($A6="","",SUMIFS('記録'!$C$4:$C$2003,'記録'!$B$4:$B$2003,$A6,'記録'!$F$4:$F$2003,E$3)+SUMIFS('明細'!$T$4:$T$3003,'明細'!$S$4:$S$3003,$A6,'明細'!$M$4:$M$3003,E$3)) | F6: =IF($A6="","",SUMIFS('記録'!$C$4:$C$2003,'記録'!$B$4:$B$2003,$A6,'記録'!$F$4:$F$2003,F$3)+SUMIFS('明細'!$T$4:$T$3003,'明細'!$S$4:$S$3003,$A6,'明細'!$M$4:$M$3003,F$3)) | G6: =IF($A6="","",SUMIFS('記録'!$C$4:$C$2003,'記録'!$B$4:$B$2003,$A6,'記録'!$F$4:$F$2003,G$3)+SUMIFS('明細'!$T$4:$T$3003,'明細'!$S$4:$S$3003,$A6,'明細'!$M$4:$M$3003,G$3)) | H6: =IF($A6="","",SUMIFS('記録'!$C$4:$C$2003,'記録'!$B$4:$B$2003,$A6,'記録'!$F$4:$F$2003,H$3)+SUMIFS('明細'!$T$4:$T$3003,'明細'!$S$4:$S$3003,$A6,'明細'!$M$4:$M$3003,H$3)) | I6: =IF($A6="","",SUMIFS('記録'!$C$4:$C$2003,'記録'!$B$4:$B$2003,$A6,'記録'!$F$4:$F$2003,I$3)+SUMIFS('明細'!$T$4:$T$3003,'明細'!$S$4:$S$3003,$A6,'明細'!$M$4:$M$3003,I$3)) | ... M6: =IF($A6="","",SUMIFS('記録'!$C$4:$C$2003,'記録'!$B$4:$B$2003,$A6,'記録'!$F$4:$F$2003,M$3)+SUMIFS('明細'!$T$4:$T$3003,'明細'!$S$4:$S$3003,$A6,'明細'!$M$4:$M$3003,M$3)) | N6: =IF($A6="","",SUM(B6:M6)) | O6: =IF(($A6="")+(SUM($B$77:$M$77)=0),"",N6/SUM($B$77:$M$77)) | P6: =IF($A6="","",'入力'!B31*12) | Q6: =IF($A6="","",N6-P6) | R6: ='入力'!C31&"" | S6: ='入力'!E31&""
A7: =IF('入力'!A32="","",'入力'!A32) | B7: =IF($A7="","",SUMIFS('記録'!$C$4:$C$2003,'記録'!$B$4:$B$2003,$A7,'記録'!$F$4:$F$2003,B$3)+SUMIFS('明細'!$T$4:$T$3003,'明細'!$S$4:$S$3003,$A7,'明細'!$M$4:$M$3003,B$3)) | C7: =IF($A7="","",SUMIFS('記録'!$C$4:$C$2003,'記録'!$B$4:$B$2003,$A7,'記録'!$F$4:$F$2003,C$3)+SUMIFS('明細'!$T$4:$T$3003,'明細'!$S$4:$S$3003,$A7,'明細'!$M$4:$M$3003,C$3)) | D7: =IF($A7="","",SUMIFS('記録'!$C$4:$C$2003,'記録'!$B$4:$B$2003,$A7,'記録'!$F$4:$F$2003,D$3)+SUMIFS('明細'!$T$4:$T$3003,'明細'!$S$4:$S$3003,$A7,'明細'!$M$4:$M$3003,D$3)) | E7: =IF($A7="","",SUMIFS('記録'!$C$4:$C$2003,'記録'!$B$4:$B$2003,$A7,'記録'!$F$4:$F$2003,E$3)+SUMIFS('明細'!$T$4:$T$3003,'明細'!$S$4:$S$3003,$A7,'明細'!$M$4:$M$3003,E$3)) | F7: =IF($A7="","",SUMIFS('記録'!$C$4:$C$2003,'記録'!$B$4:$B$2003,$A7,'記録'!$F$4:$F$2003,F$3)+SUMIFS('明細'!$T$4:$T$3003,'明細'!$S$4:$S$3003,$A7,'明細'!$M$4:$M$3003,F$3)) | G7: =IF($A7="","",SUMIFS('記録'!$C$4:$C$2003,'記録'!$B$4:$B$2003,$A7,'記録'!$F$4:$F$2003,G$3)+SUMIFS('明細'!$T$4:$T$3003,'明細'!$S$4:$S$3003,$A7,'明細'!$M$4:$M$3003,G$3)) | H7: =IF($A7="","",SUMIFS('記録'!$C$4:$C$2003,'記録'!$B$4:$B$2003,$A7,'記録'!$F$4:$F$2003,H$3)+SUMIFS('明細'!$T$4:$T$3003,'明細'!$S$4:$S$3003,$A7,'明細'!$M$4:$M$3003,H$3)) | I7: =IF($A7="","",SUMIFS('記録'!$C$4:$C$2003,'記録'!$B$4:$B$2003,$A7,'記録'!$F$4:$F$2003,I$3)+SUMIFS('明細'!$T$4:$T$3003,'明細'!$S$4:$S$3003,$A7,'明細'!$M$4:$M$3003,I$3)) | ... M7: =IF($A7="","",SUMIFS('記録'!$C$4:$C$2003,'記録'!$B$4:$B$2003,$A7,'記録'!$F$4:$F$2003,M$3)+SUMIFS('明細'!$T$4:$T$3003,'明細'!$S$4:$S$3003,$A7,'明細'!$M$4:$M$3003,M$3)) | N7: =IF($A7="","",SUM(B7:M7)) | O7: =IF(($A7="")+(SUM($B$77:$M$77)=0),"",N7/SUM($B$77:$M$77)) | P7: =IF($A7="","",'入力'!B32*12) | Q7: =IF($A7="","",N7-P7) | R7: ='入力'!C32&"" | S7: ='入力'!E32&""
A8: =IF('入力'!A33="","",'入力'!A33) | B8: =IF($A8="","",SUMIFS('記録'!$C$4:$C$2003,'記録'!$B$4:$B$2003,$A8,'記録'!$F$4:$F$2003,B$3)+SUMIFS('明細'!$T$4:$T$3003,'明細'!$S$4:$S$3003,$A8,'明細'!$M$4:$M$3003,B$3)) | C8: =IF($A8="","",SUMIFS('記録'!$C$4:$C$2003,'記録'!$B$4:$B$2003,$A8,'記録'!$F$4:$F$2003,C$3)+SUMIFS('明細'!$T$4:$T$3003,'明細'!$S$4:$S$3003,$A8,'明細'!$M$4:$M$3003,C$3)) | D8: =IF($A8="","",SUMIFS('記録'!$C$4:$C$2003,'記録'!$B$4:$B$2003,$A8,'記録'!$F$4:$F$2003,D$3)+SUMIFS('明細'!$T$4:$T$3003,'明細'!$S$4:$S$3003,$A8,'明細'!$M$4:$M$3003,D$3)) | E8: =IF($A8="","",SUMIFS('記録'!$C$4:$C$2003,'記録'!$B$4:$B$2003,$A8,'記録'!$F$4:$F$2003,E$3)+SUMIFS('明細'!$T$4:$T$3003,'明細'!$S$4:$S$3003,$A8,'明細'!$M$4:$M$3003,E$3)) | F8: =IF($A8="","",SUMIFS('記録'!$C$4:$C$2003,'記録'!$B$4:$B$2003,$A8,'記録'!$F$4:$F$2003,F$3)+SUMIFS('明細'!$T$4:$T$3003,'明細'!$S$4:$S$3003,$A8,'明細'!$M$4:$M$3003,F$3)) | G8: =IF($A8="","",SUMIFS('記録'!$C$4:$C$2003,'記録'!$B$4:$B$2003,$A8,'記録'!$F$4:$F$2003,G$3)+SUMIFS('明細'!$T$4:$T$3003,'明細'!$S$4:$S$3003,$A8,'明細'!$M$4:$M$3003,G$3)) | H8: =IF($A8="","",SUMIFS('記録'!$C$4:$C$2003,'記録'!$B$4:$B$2003,$A8,'記録'!$F$4:$F$2003,H$3)+SUMIFS('明細'!$T$4:$T$3003,'明細'!$S$4:$S$3003,$A8,'明細'!$M$4:$M$3003,H$3)) | I8: =IF($A8="","",SUMIFS('記録'!$C$4:$C$2003,'記録'!$B$4:$B$2003,$A8,'記録'!$F$4:$F$2003,I$3)+SUMIFS('明細'!$T$4:$T$3003,'明細'!$S$4:$S$3003,$A8,'明細'!$M$4:$M$3003,I$3)) | ... M8: =IF($A8="","",SUMIFS('記録'!$C$4:$C$2003,'記録'!$B$4:$B$2003,$A8,'記録'!$F$4:$F$2003,M$3)+SUMIFS('明細'!$T$4:$T$3003,'明細'!$S$4:$S$3003,$A8,'明細'!$M$4:$M$3003,M$3)) | N8: =IF($A8="","",SUM(B8:M8)) | O8: =IF(($A8="")+(SUM($B$77:$M$77)=0),"",N8/SUM($B$77:$M$77)) | P8: =IF($A8="","",'入力'!B33*12) | Q8: =IF($A8="","",N8-P8) | R8: ='入力'!C33&"" | S8: ='入力'!E33&""
A9: =IF('入力'!A34="","",'入力'!A34) | B9: =IF($A9="","",SUMIFS('記録'!$C$4:$C$2003,'記録'!$B$4:$B$2003,$A9,'記録'!$F$4:$F$2003,B$3)+SUMIFS('明細'!$T$4:$T$3003,'明細'!$S$4:$S$3003,$A9,'明細'!$M$4:$M$3003,B$3)) | C9: =IF($A9="","",SUMIFS('記録'!$C$4:$C$2003,'記録'!$B$4:$B$2003,$A9,'記録'!$F$4:$F$2003,C$3)+SUMIFS('明細'!$T$4:$T$3003,'明細'!$S$4:$S$3003,$A9,'明細'!$M$4:$M$3003,C$3)) | D9: =IF($A9="","",SUMIFS('記録'!$C$4:$C$2003,'記録'!$B$4:$B$2003,$A9,'記録'!$F$4:$F$2003,D$3)+SUMIFS('明細'!$T$4:$T$3003,'明細'!$S$4:$S$3003,$A9,'明細'!$M$4:$M$3003,D$3)) | E9: =IF($A9="","",SUMIFS('記録'!$C$4:$C$2003,'記録'!$B$4:$B$2003,$A9,'記録'!$F$4:$F$2003,E$3)+SUMIFS('明細'!$T$4:$T$3003,'明細'!$S$4:$S$3003,$A9,'明細'!$M$4:$M$3003,E$3)) | F9: =IF($A9="","",SUMIFS('記録'!$C$4:$C$2003,'記録'!$B$4:$B$2003,$A9,'記録'!$F$4:$F$2003,F$3)+SUMIFS('明細'!$T$4:$T$3003,'明細'!$S$4:$S$3003,$A9,'明細'!$M$4:$M$3003,F$3)) | G9: =IF($A9="","",SUMIFS('記録'!$C$4:$C$2003,'記録'!$B$4:$B$2003,$A9,'記録'!$F$4:$F$2003,G$3)+SUMIFS('明細'!$T$4:$T$3003,'明細'!$S$4:$S$3003,$A9,'明細'!$M$4:$M$3003,G$3)) | H9: =IF($A9="","",SUMIFS('記録'!$C$4:$C$2003,'記録'!$B$4:$B$2003,$A9,'記録'!$F$4:$F$2003,H$3)+SUMIFS('明細'!$T$4:$T$3003,'明細'!$S$4:$S$3003,$A9,'明細'!$M$4:$M$3003,H$3)) | I9: =IF($A9="","",SUMIFS('記録'!$C$4:$C$2003,'記録'!$B$4:$B$2003,$A9,'記録'!$F$4:$F$2003,I$3)+SUMIFS('明細'!$T$4:$T$3003,'明細'!$S$4:$S$3003,$A9,'明細'!$M$4:$M$3003,I$3)) | ... M9: =IF($A9="","",SUMIFS('記録'!$C$4:$C$2003,'記録'!$B$4:$B$2003,$A9,'記録'!$F$4:$F$2003,M$3)+SUMIFS('明細'!$T$4:$T$3003,'明細'!$S$4:$S$3003,$A9,'明細'!$M$4:$M$3003,M$3)) | N9: =IF($A9="","",SUM(B9:M9)) | O9: =IF(($A9="")+(SUM($B$77:$M$77)=0),"",N9/SUM($B$77:$M$77)) | P9: =IF($A9="","",'入力'!B34*12) | Q9: =IF($A9="","",N9-P9) | R9: ='入力'!C34&"" | S9: ='入力'!E34&""
A10: =IF('入力'!A35="","",'入力'!A35) | B10: =IF($A10="","",SUMIFS('記録'!$C$4:$C$2003,'記録'!$B$4:$B$2003,$A10,'記録'!$F$4:$F$2003,B$3)+SUMIFS('明細'!$T$4:$T$3003,'明細'!$S$4:$S$3003,$A10,'明細'!$M$4:$M$3003,B$3)) | C10: =IF($A10="","",SUMIFS('記録'!$C$4:$C$2003,'記録'!$B$4:$B$2003,$A10,'記録'!$F$4:$F$2003,C$3)+SUMIFS('明細'!$T$4:$T$3003,'明細'!$S$4:$S$3003,$A10,'明細'!$M$4:$M$3003,C$3)) | D10: =IF($A10="","",SUMIFS('記録'!$C$4:$C$2003,'記録'!$B$4:$B$2003,$A10,'記録'!$F$4:$F$2003,D$3)+SUMIFS('明細'!$T$4:$T$3003,'明細'!$S$4:$S$3003,$A10,'明細'!$M$4:$M$3003,D$3)) | E10: =IF($A10="","",SUMIFS('記録'!$C$4:$C$2003,'記録'!$B$4:$B$2003,$A10,'記録'!$F$4:$F$2003,E$3)+SUMIFS('明細'!$T$4:$T$3003,'明細'!$S$4:$S$3003,$A10,'明細'!$M$4:$M$3003,E$3)) | F10: =IF($A10="","",SUMIFS('記録'!$C$4:$C$2003,'記録'!$B$4:$B$2003,$A10,'記録'!$F$4:$F$2003,F$3)+SUMIFS('明細'!$T$4:$T$3003,'明細'!$S$4:$S$3003,$A10,'明細'!$M$4:$M$3003,F$3)) | G10: =IF($A10="","",SUMIFS('記録'!$C$4:$C$2003,'記録'!$B$4:$B$2003,$A10,'記録'!$F$4:$F$2003,G$3)+SUMIFS('明細'!$T$4:$T$3003,'明細'!$S$4:$S$3003,$A10,'明細'!$M$4:$M$3003,G$3)) | H10: =IF($A10="","",SUMIFS('記録'!$C$4:$C$2003,'記録'!$B$4:$B$2003,$A10,'記録'!$F$4:$F$2003,H$3)+SUMIFS('明細'!$T$4:$T$3003,'明細'!$S$4:$S$3003,$A10,'明細'!$M$4:$M$3003,H$3)) | I10: =IF($A10="","",SUMIFS('記録'!$C$4:$C$2003,'記録'!$B$4:$B$2003,$A10,'記録'!$F$4:$F$2003,I$3)+SUMIFS('明細'!$T$4:$T$3003,'明細'!$S$4:$S$3003,$A10,'明細'!$M$4:$M$3003,I$3)) | ... M10: =IF($A10="","",SUMIFS('記録'!$C$4:$C$2003,'記録'!$B$4:$B$2003,$A10,'記録'!$F$4:$F$2003,M$3)+SUMIFS('明細'!$T$4:$T$3003,'明細'!$S$4:$S$3003,$A10,'明細'!$M$4:$M$3003,M$3)) | N10: =IF($A10="","",SUM(B10:M10)) | O10: =IF(($A10="")+(SUM($B$77:$M$77)=0),"",N10/SUM($B$77:$M$77)) | P10: =IF($A10="","",'入力'!B35*12) | Q10: =IF($A10="","",N10-P10) | R10: ='入力'!C35&"" | S10: ='入力'!E35&""
A11: =IF('入力'!A36="","",'入力'!A36) | B11: =IF($A11="","",SUMIFS('記録'!$C$4:$C$2003,'記録'!$B$4:$B$2003,$A11,'記録'!$F$4:$F$2003,B$3)+SUMIFS('明細'!$T$4:$T$3003,'明細'!$S$4:$S$3003,$A11,'明細'!$M$4:$M$3003,B$3)) | C11: =IF($A11="","",SUMIFS('記録'!$C$4:$C$2003,'記録'!$B$4:$B$2003,$A11,'記録'!$F$4:$F$2003,C$3)+SUMIFS('明細'!$T$4:$T$3003,'明細'!$S$4:$S$3003,$A11,'明細'!$M$4:$M$3003,C$3)) | D11: =IF($A11="","",SUMIFS('記録'!$C$4:$C$2003,'記録'!$B$4:$B$2003,$A11,'記録'!$F$4:$F$2003,D$3)+SUMIFS('明細'!$T$4:$T$3003,'明細'!$S$4:$S$3003,$A11,'明細'!$M$4:$M$3003,D$3)) | E11: =IF($A11="","",SUMIFS('記録'!$C$4:$C$2003,'記録'!$B$4:$B$2003,$A11,'記録'!$F$4:$F$2003,E$3)+SUMIFS('明細'!$T$4:$T$3003,'明細'!$S$4:$S$3003,$A11,'明細'!$M$4:$M$3003,E$3)) | F11: =IF($A11="","",SUMIFS('記録'!$C$4:$C$2003,'記録'!$B$4:$B$2003,$A11,'記録'!$F$4:$F$2003,F$3)+SUMIFS('明細'!$T$4:$T$3003,'明細'!$S$4:$S$3003,$A11,'明細'!$M$4:$M$3003,F$3)) | G11: =IF($A11="","",SUMIFS('記録'!$C$4:$C$2003,'記録'!$B$4:$B$2003,$A11,'記録'!$F$4:$F$2003,G$3)+SUMIFS('明細'!$T$4:$T$3003,'明細'!$S$4:$S$3003,$A11,'明細'!$M$4:$M$3003,G$3)) | H11: =IF($A11="","",SUMIFS('記録'!$C$4:$C$2003,'記録'!$B$4:$B$2003,$A11,'記録'!$F$4:$F$2003,H$3)+SUMIFS('明細'!$T$4:$T$3003,'明細'!$S$4:$S$3003,$A11,'明細'!$M$4:$M$3003,H$3)) | I11: =IF($A11="","",SUMIFS('記録'!$C$4:$C$2003,'記録'!$B$4:$B$2003,$A11,'記録'!$F$4:$F$2003,I$3)+SUMIFS('明細'!$T$4:$T$3003,'明細'!$S$4:$S$3003,$A11,'明細'!$M$4:$M$3003,I$3)) | ... M11: =IF($A11="","",SUMIFS('記録'!$C$4:$C$2003,'記録'!$B$4:$B$2003,$A11,'記録'!$F$4:$F$2003,M$3)+SUMIFS('明細'!$T$4:$T$3003,'明細'!$S$4:$S$3003,$A11,'明細'!$M$4:$M$3003,M$3)) | N11: =IF($A11="","",SUM(B11:M11)) | O11: =IF(($A11="")+(SUM($B$77:$M$77)=0),"",N11/SUM($B$77:$M$77)) | P11: =IF($A11="","",'入力'!B36*12) | Q11: =IF($A11="","",N11-P11) | R11: ='入力'!C36&"" | S11: ='入力'!E36&""
A12: =IF('入力'!A37="","",'入力'!A37) | B12: =IF($A12="","",SUMIFS('記録'!$C$4:$C$2003,'記録'!$B$4:$B$2003,$A12,'記録'!$F$4:$F$2003,B$3)+SUMIFS('明細'!$T$4:$T$3003,'明細'!$S$4:$S$3003,$A12,'明細'!$M$4:$M$3003,B$3)) | C12: =IF($A12="","",SUMIFS('記録'!$C$4:$C$2003,'記録'!$B$4:$B$2003,$A12,'記録'!$F$4:$F$2003,C$3)+SUMIFS('明細'!$T$4:$T$3003,'明細'!$S$4:$S$3003,$A12,'明細'!$M$4:$M$3003,C$3)) | D12: =IF($A12="","",SUMIFS('記録'!$C$4:$C$2003,'記録'!$B$4:$B$2003,$A12,'記録'!$F$4:$F$2003,D$3)+SUMIFS('明細'!$T$4:$T$3003,'明細'!$S$4:$S$3003,$A12,'明細'!$M$4:$M$3003,D$3)) | E12: =IF($A12="","",SUMIFS('記録'!$C$4:$C$2003,'記録'!$B$4:$B$2003,$A12,'記録'!$F$4:$F$2003,E$3)+SUMIFS('明細'!$T$4:$T$3003,'明細'!$S$4:$S$3003,$A12,'明細'!$M$4:$M$3003,E$3)) | F12: =IF($A12="","",SUMIFS('記録'!$C$4:$C$2003,'記録'!$B$4:$B$2003,$A12,'記録'!$F$4:$F$2003,F$3)+SUMIFS('明細'!$T$4:$T$3003,'明細'!$S$4:$S$3003,$A12,'明細'!$M$4:$M$3003,F$3)) | G12: =IF($A12="","",SUMIFS('記録'!$C$4:$C$2003,'記録'!$B$4:$B$2003,$A12,'記録'!$F$4:$F$2003,G$3)+SUMIFS('明細'!$T$4:$T$3003,'明細'!$S$4:$S$3003,$A12,'明細'!$M$4:$M$3003,G$3)) | H12: =IF($A12="","",SUMIFS('記録'!$C$4:$C$2003,'記録'!$B$4:$B$2003,$A12,'記録'!$F$4:$F$2003,H$3)+SUMIFS('明細'!$T$4:$T$3003,'明細'!$S$4:$S$3003,$A12,'明細'!$M$4:$M$3003,H$3)) | I12: =IF($A12="","",SUMIFS('記録'!$C$4:$C$2003,'記録'!$B$4:$B$2003,$A12,'記録'!$F$4:$F$2003,I$3)+SUMIFS('明細'!$T$4:$T$3003,'明細'!$S$4:$S$3003,$A12,'明細'!$M$4:$M$3003,I$3)) | ... M12: =IF($A12="","",SUMIFS('記録'!$C$4:$C$2003,'記録'!$B$4:$B$2003,$A12,'記録'!$F$4:$F$2003,M$3)+SUMIFS('明細'!$T$4:$T$3003,'明細'!$S$4:$S$3003,$A12,'明細'!$M$4:$M$3003,M$3)) | N12: =IF($A12="","",SUM(B12:M12)) | O12: =IF(($A12="")+(SUM($B$77:$M$77)=0),"",N12/SUM($B$77:$M$77)) | P12: =IF($A12="","",'入力'!B37*12) | Q12: =IF($A12="","",N12-P12) | R12: ='入力'!C37&"" | S12: ='入力'!E37&""
A13: =IF('入力'!A38="","",'入力'!A38) | B13: =IF($A13="","",SUMIFS('記録'!$C$4:$C$2003,'記録'!$B$4:$B$2003,$A13,'記録'!$F$4:$F$2003,B$3)+SUMIFS('明細'!$T$4:$T$3003,'明細'!$S$4:$S$3003,$A13,'明細'!$M$4:$M$3003,B$3)) | C13: =IF($A13="","",SUMIFS('記録'!$C$4:$C$2003,'記録'!$B$4:$B$2003,$A13,'記録'!$F$4:$F$2003,C$3)+SUMIFS('明細'!$T$4:$T$3003,'明細'!$S$4:$S$3003,$A13,'明細'!$M$4:$M$3003,C$3)) | D13: =IF($A13="","",SUMIFS('記録'!$C$4:$C$2003,'記録'!$B$4:$B$2003,$A13,'記録'!$F$4:$F$2003,D$3)+SUMIFS('明細'!$T$4:$T$3003,'明細'!$S$4:$S$3003,$A13,'明細'!$M$4:$M$3003,D$3)) | E13: =IF($A13="","",SUMIFS('記録'!$C$4:$C$2003,'記録'!$B$4:$B$2003,$A13,'記録'!$F$4:$F$2003,E$3)+SUMIFS('明細'!$T$4:$T$3003,'明細'!$S$4:$S$3003,$A13,'明細'!$M$4:$M$3003,E$3)) | F13: =IF($A13="","",SUMIFS('記録'!$C$4:$C$2003,'記録'!$B$4:$B$2003,$A13,'記録'!$F$4:$F$2003,F$3)+SUMIFS('明細'!$T$4:$T$3003,'明細'!$S$4:$S$3003,$A13,'明細'!$M$4:$M$3003,F$3)) | G13: =IF($A13="","",SUMIFS('記録'!$C$4:$C$2003,'記録'!$B$4:$B$2003,$A13,'記録'!$F$4:$F$2003,G$3)+SUMIFS('明細'!$T$4:$T$3003,'明細'!$S$4:$S$3003,$A13,'明細'!$M$4:$M$3003,G$3)) | H13: =IF($A13="","",SUMIFS('記録'!$C$4:$C$2003,'記録'!$B$4:$B$2003,$A13,'記録'!$F$4:$F$2003,H$3)+SUMIFS('明細'!$T$4:$T$3003,'明細'!$S$4:$S$3003,$A13,'明細'!$M$4:$M$3003,H$3)) | I13: =IF($A13="","",SUMIFS('記録'!$C$4:$C$2003,'記録'!$B$4:$B$2003,$A13,'記録'!$F$4:$F$2003,I$3)+SUMIFS('明細'!$T$4:$T$3003,'明細'!$S$4:$S$3003,$A13,'明細'!$M$4:$M$3003,I$3)) | ... M13: =IF($A13="","",SUMIFS('記録'!$C$4:$C$2003,'記録'!$B$4:$B$2003,$A13,'記録'!$F$4:$F$2003,M$3)+SUMIFS('明細'!$T$4:$T$3003,'明細'!$S$4:$S$3003,$A13,'明細'!$M$4:$M$3003,M$3)) | N13: =IF($A13="","",SUM(B13:M13)) | O13: =IF(($A13="")+(SUM($B$77:$M$77)=0),"",N13/SUM($B$77:$M$77)) | P13: =IF($A13="","",'入力'!B38*12) | Q13: =IF($A13="","",N13-P13) | R13: ='入力'!C38&"" | S13: ='入力'!E38&""
A14: =IF('入力'!A39="","",'入力'!A39) | B14: =IF($A14="","",SUMIFS('記録'!$C$4:$C$2003,'記録'!$B$4:$B$2003,$A14,'記録'!$F$4:$F$2003,B$3)+SUMIFS('明細'!$T$4:$T$3003,'明細'!$S$4:$S$3003,$A14,'明細'!$M$4:$M$3003,B$3)) | C14: =IF($A14="","",SUMIFS('記録'!$C$4:$C$2003,'記録'!$B$4:$B$2003,$A14,'記録'!$F$4:$F$2003,C$3)+SUMIFS('明細'!$T$4:$T$3003,'明細'!$S$4:$S$3003,$A14,'明細'!$M$4:$M$3003,C$3)) | D14: =IF($A14="","",SUMIFS('記録'!$C$4:$C$2003,'記録'!$B$4:$B$2003,$A14,'記録'!$F$4:$F$2003,D$3)+SUMIFS('明細'!$T$4:$T$3003,'明細'!$S$4:$S$3003,$A14,'明細'!$M$4:$M$3003,D$3)) | E14: =IF($A14="","",SUMIFS('記録'!$C$4:$C$2003,'記録'!$B$4:$B$2003,$A14,'記録'!$F$4:$F$2003,E$3)+SUMIFS('明細'!$T$4:$T$3003,'明細'!$S$4:$S$3003,$A14,'明細'!$M$4:$M$3003,E$3)) | F14: =IF($A14="","",SUMIFS('記録'!$C$4:$C$2003,'記録'!$B$4:$B$2003,$A14,'記録'!$F$4:$F$2003,F$3)+SUMIFS('明細'!$T$4:$T$3003,'明細'!$S$4:$S$3003,$A14,'明細'!$M$4:$M$3003,F$3)) | G14: =IF($A14="","",SUMIFS('記録'!$C$4:$C$2003,'記録'!$B$4:$B$2003,$A14,'記録'!$F$4:$F$2003,G$3)+SUMIFS('明細'!$T$4:$T$3003,'明細'!$S$4:$S$3003,$A14,'明細'!$M$4:$M$3003,G$3)) | H14: =IF($A14="","",SUMIFS('記録'!$C$4:$C$2003,'記録'!$B$4:$B$2003,$A14,'記録'!$F$4:$F$2003,H$3)+SUMIFS('明細'!$T$4:$T$3003,'明細'!$S$4:$S$3003,$A14,'明細'!$M$4:$M$3003,H$3)) | I14: =IF($A14="","",SUMIFS('記録'!$C$4:$C$2003,'記録'!$B$4:$B$2003,$A14,'記録'!$F$4:$F$2003,I$3)+SUMIFS('明細'!$T$4:$T$3003,'明細'!$S$4:$S$3003,$A14,'明細'!$M$4:$M$3003,I$3)) | ... M14: =IF($A14="","",SUMIFS('記録'!$C$4:$C$2003,'記録'!$B$4:$B$2003,$A14,'記録'!$F$4:$F$2003,M$3)+SUMIFS('明細'!$T$4:$T$3003,'明細'!$S$4:$S$3003,$A14,'明細'!$M$4:$M$3003,M$3)) | N14: =IF($A14="","",SUM(B14:M14)) | O14: =IF(($A14="")+(SUM($B$77:$M$77)=0),"",N14/SUM($B$77:$M$77)) | P14: =IF($A14="","",'入力'!B39*12) | Q14: =IF($A14="","",N14-P14) | R14: ='入力'!C39&"" | S14: ='入力'!E39&""
A15: 入るお金の合計 | B15: =SUM(B5:B14) | C15: =SUM(C5:C14) | D15: =SUM(D5:D14) | E15: =SUM(E5:E14) | F15: =SUM(F5:F14) | G15: =SUM(G5:G14) | H15: =SUM(H5:H14) | I15: =SUM(I5:I14) | ... N15: =SUM(N5:N14) | O15: =IF(SUM($B$77:$M$77)=0,"",N15/SUM($B$77:$M$77)) | P15: =SUM(P5:P14) | Q15: =N15-P15
A16: □ 固定費
A17: =IF('入力'!A41="","",'入力'!A41) | B17: =IF($A17="","",SUMIFS('記録'!$C$4:$C$2003,'記録'!$B$4:$B$2003,$A17,'記録'!$F$4:$F$2003,B$3)+SUMIFS('明細'!$T$4:$T$3003,'明細'!$S$4:$S$3003,$A17,'明細'!$M$4:$M$3003,B$3)) | C17: =IF($A17="","",SUMIFS('記録'!$C$4:$C$2003,'記録'!$B$4:$B$2003,$A17,'記録'!$F$4:$F$2003,C$3)+SUMIFS('明細'!$T$4:$T$3003,'明細'!$S$4:$S$3003,$A17,'明細'!$M$4:$M$3003,C$3)) | D17: =IF($A17="","",SUMIFS('記録'!$C$4:$C$2003,'記録'!$B$4:$B$2003,$A17,'記録'!$F$4:$F$2003,D$3)+SUMIFS('明細'!$T$4:$T$3003,'明細'!$S$4:$S$3003,$A17,'明細'!$M$4:$M$3003,D$3)) | E17: =IF($A17="","",SUMIFS('記録'!$C$4:$C$2003,'記録'!$B$4:$B$2003,$A17,'記録'!$F$4:$F$2003,E$3)+SUMIFS('明細'!$T$4:$T$3003,'明細'!$S$4:$S$3003,$A17,'明細'!$M$4:$M$3003,E$3)) | F17: =IF($A17="","",SUMIFS('記録'!$C$4:$C$2003,'記録'!$B$4:$B$2003,$A17,'記録'!$F$4:$F$2003,F$3)+SUMIFS('明細'!$T$4:$T$3003,'明細'!$S$4:$S$3003,$A17,'明細'!$M$4:$M$3003,F$3)) | G17: =IF($A17="","",SUMIFS('記録'!$C$4:$C$2003,'記録'!$B$4:$B$2003,$A17,'記録'!$F$4:$F$2003,G$3)+SUMIFS('明細'!$T$4:$T$3003,'明細'!$S$4:$S$3003,$A17,'明細'!$M$4:$M$3003,G$3)) | H17: =IF($A17="","",SUMIFS('記録'!$C$4:$C$2003,'記録'!$B$4:$B$2003,$A17,'記録'!$F$4:$F$2003,H$3)+SUMIFS('明細'!$T$4:$T$3003,'明細'!$S$4:$S$3003,$A17,'明細'!$M$4:$M$3003,H$3)) | I17: =IF($A17="","",SUMIFS('記録'!$C$4:$C$2003,'記録'!$B$4:$B$2003,$A17,'記録'!$F$4:$F$2003,I$3)+SUMIFS('明細'!$T$4:$T$3003,'明細'!$S$4:$S$3003,$A17,'明細'!$M$4:$M$3003,I$3)) | ... M17: =IF($A17="","",SUMIFS('記録'!$C$4:$C$2003,'記録'!$B$4:$B$2003,$A17,'記録'!$F$4:$F$2003,M$3)+SUMIFS('明細'!$T$4:$T$3003,'明細'!$S$4:$S$3003,$A17,'明細'!$M$4:$M$3003,M$3)) | N17: =IF($A17="","",SUM(B17:M17)) | O17: =IF(($A17="")+(SUM($B$77:$M$77)=0),"",N17/SUM($B$77:$M$77)) | P17: =IF($A17="","",'入力'!B41*12) | Q17: =IF($A17="","",P17-N17) | R17: ='入力'!C41&"" | S17: ='入力'!E41&""
A18: =IF('入力'!A42="","",'入力'!A42) | B18: =IF($A18="","",SUMIFS('記録'!$C$4:$C$2003,'記録'!$B$4:$B$2003,$A18,'記録'!$F$4:$F$2003,B$3)+SUMIFS('明細'!$T$4:$T$3003,'明細'!$S$4:$S$3003,$A18,'明細'!$M$4:$M$3003,B$3)) | C18: =IF($A18="","",SUMIFS('記録'!$C$4:$C$2003,'記録'!$B$4:$B$2003,$A18,'記録'!$F$4:$F$2003,C$3)+SUMIFS('明細'!$T$4:$T$3003,'明細'!$S$4:$S$3003,$A18,'明細'!$M$4:$M$3003,C$3)) | D18: =IF($A18="","",SUMIFS('記録'!$C$4:$C$2003,'記録'!$B$4:$B$2003,$A18,'記録'!$F$4:$F$2003,D$3)+SUMIFS('明細'!$T$4:$T$3003,'明細'!$S$4:$S$3003,$A18,'明細'!$M$4:$M$3003,D$3)) | E18: =IF($A18="","",SUMIFS('記録'!$C$4:$C$2003,'記録'!$B$4:$B$2003,$A18,'記録'!$F$4:$F$2003,E$3)+SUMIFS('明細'!$T$4:$T$3003,'明細'!$S$4:$S$3003,$A18,'明細'!$M$4:$M$3003,E$3)) | F18: =IF($A18="","",SUMIFS('記録'!$C$4:$C$2003,'記録'!$B$4:$B$2003,$A18,'記録'!$F$4:$F$2003,F$3)+SUMIFS('明細'!$T$4:$T$3003,'明細'!$S$4:$S$3003,$A18,'明細'!$M$4:$M$3003,F$3)) | G18: =IF($A18="","",SUMIFS('記録'!$C$4:$C$2003,'記録'!$B$4:$B$2003,$A18,'記録'!$F$4:$F$2003,G$3)+SUMIFS('明細'!$T$4:$T$3003,'明細'!$S$4:$S$3003,$A18,'明細'!$M$4:$M$3003,G$3)) | H18: =IF($A18="","",SUMIFS('記録'!$C$4:$C$2003,'記録'!$B$4:$B$2003,$A18,'記録'!$F$4:$F$2003,H$3)+SUMIFS('明細'!$T$4:$T$3003,'明細'!$S$4:$S$3003,$A18,'明細'!$M$4:$M$3003,H$3)) | I18: =IF($A18="","",SUMIFS('記録'!$C$4:$C$2003,'記録'!$B$4:$B$2003,$A18,'記録'!$F$4:$F$2003,I$3)+SUMIFS('明細'!$T$4:$T$3003,'明細'!$S$4:$S$3003,$A18,'明細'!$M$4:$M$3003,I$3)) | ... M18: =IF($A18="","",SUMIFS('記録'!$C$4:$C$2003,'記録'!$B$4:$B$2003,$A18,'記録'!$F$4:$F$2003,M$3)+SUMIFS('明細'!$T$4:$T$3003,'明細'!$S$4:$S$3003,$A18,'明細'!$M$4:$M$3003,M$3)) | N18: =IF($A18="","",SUM(B18:M18)) | O18: =IF(($A18="")+(SUM($B$77:$M$77)=0),"",N18/SUM($B$77:$M$77)) | P18: =IF($A18="","",'入力'!B42*12) | Q18: =IF($A18="","",P18-N18) | R18: ='入力'!C42&"" | S18: ='入力'!E42&""
A19: =IF('入力'!A43="","",'入力'!A43) | B19: =IF($A19="","",SUMIFS('記録'!$C$4:$C$2003,'記録'!$B$4:$B$2003,$A19,'記録'!$F$4:$F$2003,B$3)+SUMIFS('明細'!$T$4:$T$3003,'明細'!$S$4:$S$3003,$A19,'明細'!$M$4:$M$3003,B$3)) | C19: =IF($A19="","",SUMIFS('記録'!$C$4:$C$2003,'記録'!$B$4:$B$2003,$A19,'記録'!$F$4:$F$2003,C$3)+SUMIFS('明細'!$T$4:$T$3003,'明細'!$S$4:$S$3003,$A19,'明細'!$M$4:$M$3003,C$3)) | D19: =IF($A19="","",SUMIFS('記録'!$C$4:$C$2003,'記録'!$B$4:$B$2003,$A19,'記録'!$F$4:$F$2003,D$3)+SUMIFS('明細'!$T$4:$T$3003,'明細'!$S$4:$S$3003,$A19,'明細'!$M$4:$M$3003,D$3)) | E19: =IF($A19="","",SUMIFS('記録'!$C$4:$C$2003,'記録'!$B$4:$B$2003,$A19,'記録'!$F$4:$F$2003,E$3)+SUMIFS('明細'!$T$4:$T$3003,'明細'!$S$4:$S$3003,$A19,'明細'!$M$4:$M$3003,E$3)) | F19: =IF($A19="","",SUMIFS('記録'!$C$4:$C$2003,'記録'!$B$4:$B$2003,$A19,'記録'!$F$4:$F$2003,F$3)+SUMIFS('明細'!$T$4:$T$3003,'明細'!$S$4:$S$3003,$A19,'明細'!$M$4:$M$3003,F$3)) | G19: =IF($A19="","",SUMIFS('記録'!$C$4:$C$2003,'記録'!$B$4:$B$2003,$A19,'記録'!$F$4:$F$2003,G$3)+SUMIFS('明細'!$T$4:$T$3003,'明細'!$S$4:$S$3003,$A19,'明細'!$M$4:$M$3003,G$3)) | H19: =IF($A19="","",SUMIFS('記録'!$C$4:$C$2003,'記録'!$B$4:$B$2003,$A19,'記録'!$F$4:$F$2003,H$3)+SUMIFS('明細'!$T$4:$T$3003,'明細'!$S$4:$S$3003,$A19,'明細'!$M$4:$M$3003,H$3)) | I19: =IF($A19="","",SUMIFS('記録'!$C$4:$C$2003,'記録'!$B$4:$B$2003,$A19,'記録'!$F$4:$F$2003,I$3)+SUMIFS('明細'!$T$4:$T$3003,'明細'!$S$4:$S$3003,$A19,'明細'!$M$4:$M$3003,I$3)) | ... M19: =IF($A19="","",SUMIFS('記録'!$C$4:$C$2003,'記録'!$B$4:$B$2003,$A19,'記録'!$F$4:$F$2003,M$3)+SUMIFS('明細'!$T$4:$T$3003,'明細'!$S$4:$S$3003,$A19,'明細'!$M$4:$M$3003,M$3)) | N19: =IF($A19="","",SUM(B19:M19)) | O19: =IF(($A19="")+(SUM($B$77:$M$77)=0),"",N19/SUM($B$77:$M$77)) | P19: =IF($A19="","",'入力'!B43*12) | Q19: =IF($A19="","",P19-N19) | R19: ='入力'!C43&"" | S19: ='入力'!E43&""
A20: =IF('入力'!A44="","",'入力'!A44) | B20: =IF($A20="","",SUMIFS('記録'!$C$4:$C$2003,'記録'!$B$4:$B$2003,$A20,'記録'!$F$4:$F$2003,B$3)+SUMIFS('明細'!$T$4:$T$3003,'明細'!$S$4:$S$3003,$A20,'明細'!$M$4:$M$3003,B$3)) | C20: =IF($A20="","",SUMIFS('記録'!$C$4:$C$2003,'記録'!$B$4:$B$2003,$A20,'記録'!$F$4:$F$2003,C$3)+SUMIFS('明細'!$T$4:$T$3003,'明細'!$S$4:$S$3003,$A20,'明細'!$M$4:$M$3003,C$3)) | D20: =IF($A20="","",SUMIFS('記録'!$C$4:$C$2003,'記録'!$B$4:$B$2003,$A20,'記録'!$F$4:$F$2003,D$3)+SUMIFS('明細'!$T$4:$T$3003,'明細'!$S$4:$S$3003,$A20,'明細'!$M$4:$M$3003,D$3)) | E20: =IF($A20="","",SUMIFS('記録'!$C$4:$C$2003,'記録'!$B$4:$B$2003,$A20,'記録'!$F$4:$F$2003,E$3)+SUMIFS('明細'!$T$4:$T$3003,'明細'!$S$4:$S$3003,$A20,'明細'!$M$4:$M$3003,E$3)) | F20: =IF($A20="","",SUMIFS('記録'!$C$4:$C$2003,'記録'!$B$4:$B$2003,$A20,'記録'!$F$4:$F$2003,F$3)+SUMIFS('明細'!$T$4:$T$3003,'明細'!$S$4:$S$3003,$A20,'明細'!$M$4:$M$3003,F$3)) | G20: =IF($A20="","",SUMIFS('記録'!$C$4:$C$2003,'記録'!$B$4:$B$2003,$A20,'記録'!$F$4:$F$2003,G$3)+SUMIFS('明細'!$T$4:$T$3003,'明細'!$S$4:$S$3003,$A20,'明細'!$M$4:$M$3003,G$3)) | H20: =IF($A20="","",SUMIFS('記録'!$C$4:$C$2003,'記録'!$B$4:$B$2003,$A20,'記録'!$F$4:$F$2003,H$3)+SUMIFS('明細'!$T$4:$T$3003,'明細'!$S$4:$S$3003,$A20,'明細'!$M$4:$M$3003,H$3)) | I20: =IF($A20="","",SUMIFS('記録'!$C$4:$C$2003,'記録'!$B$4:$B$2003,$A20,'記録'!$F$4:$F$2003,I$3)+SUMIFS('明細'!$T$4:$T$3003,'明細'!$S$4:$S$3003,$A20,'明細'!$M$4:$M$3003,I$3)) | ... M20: =IF($A20="","",SUMIFS('記録'!$C$4:$C$2003,'記録'!$B$4:$B$2003,$A20,'記録'!$F$4:$F$2003,M$3)+SUMIFS('明細'!$T$4:$T$3003,'明細'!$S$4:$S$3003,$A20,'明細'!$M$4:$M$3003,M$3)) | N20: =IF($A20="","",SUM(B20:M20)) | O20: =IF(($A20="")+(SUM($B$77:$M$77)=0),"",N20/SUM($B$77:$M$77)) | P20: =IF($A20="","",'入力'!B44*12) | Q20: =IF($A20="","",P20-N20) | R20: ='入力'!C44&"" | S20: ='入力'!E44&""
A21: =IF('入力'!A45="","",'入力'!A45) | B21: =IF($A21="","",SUMIFS('記録'!$C$4:$C$2003,'記録'!$B$4:$B$2003,$A21,'記録'!$F$4:$F$2003,B$3)+SUMIFS('明細'!$T$4:$T$3003,'明細'!$S$4:$S$3003,$A21,'明細'!$M$4:$M$3003,B$3)) | C21: =IF($A21="","",SUMIFS('記録'!$C$4:$C$2003,'記録'!$B$4:$B$2003,$A21,'記録'!$F$4:$F$2003,C$3)+SUMIFS('明細'!$T$4:$T$3003,'明細'!$S$4:$S$3003,$A21,'明細'!$M$4:$M$3003,C$3)) | D21: =IF($A21="","",SUMIFS('記録'!$C$4:$C$2003,'記録'!$B$4:$B$2003,$A21,'記録'!$F$4:$F$2003,D$3)+SUMIFS('明細'!$T$4:$T$3003,'明細'!$S$4:$S$3003,$A21,'明細'!$M$4:$M$3003,D$3)) | E21: =IF($A21="","",SUMIFS('記録'!$C$4:$C$2003,'記録'!$B$4:$B$2003,$A21,'記録'!$F$4:$F$2003,E$3)+SUMIFS('明細'!$T$4:$T$3003,'明細'!$S$4:$S$3003,$A21,'明細'!$M$4:$M$3003,E$3)) | F21: =IF($A21="","",SUMIFS('記録'!$C$4:$C$2003,'記録'!$B$4:$B$2003,$A21,'記録'!$F$4:$F$2003,F$3)+SUMIFS('明細'!$T$4:$T$3003,'明細'!$S$4:$S$3003,$A21,'明細'!$M$4:$M$3003,F$3)) | G21: =IF($A21="","",SUMIFS('記録'!$C$4:$C$2003,'記録'!$B$4:$B$2003,$A21,'記録'!$F$4:$F$2003,G$3)+SUMIFS('明細'!$T$4:$T$3003,'明細'!$S$4:$S$3003,$A21,'明細'!$M$4:$M$3003,G$3)) | H21: =IF($A21="","",SUMIFS('記録'!$C$4:$C$2003,'記録'!$B$4:$B$2003,$A21,'記録'!$F$4:$F$2003,H$3)+SUMIFS('明細'!$T$4:$T$3003,'明細'!$S$4:$S$3003,$A21,'明細'!$M$4:$M$3003,H$3)) | I21: =IF($A21="","",SUMIFS('記録'!$C$4:$C$2003,'記録'!$B$4:$B$2003,$A21,'記録'!$F$4:$F$2003,I$3)+SUMIFS('明細'!$T$4:$T$3003,'明細'!$S$4:$S$3003,$A21,'明細'!$M$4:$M$3003,I$3)) | ... M21: =IF($A21="","",SUMIFS('記録'!$C$4:$C$2003,'記録'!$B$4:$B$2003,$A21,'記録'!$F$4:$F$2003,M$3)+SUMIFS('明細'!$T$4:$T$3003,'明細'!$S$4:$S$3003,$A21,'明細'!$M$4:$M$3003,M$3)) | N21: =IF($A21="","",SUM(B21:M21)) | O21: =IF(($A21="")+(SUM($B$77:$M$77)=0),"",N21/SUM($B$77:$M$77)) | P21: =IF($A21="","",'入力'!B45*12) | Q21: =IF($A21="","",P21-N21) | R21: ='入力'!C45&"" | S21: ='入力'!E45&""
A22: =IF('入力'!A46="","",'入力'!A46) | B22: =IF($A22="","",SUMIFS('記録'!$C$4:$C$2003,'記録'!$B$4:$B$2003,$A22,'記録'!$F$4:$F$2003,B$3)+SUMIFS('明細'!$T$4:$T$3003,'明細'!$S$4:$S$3003,$A22,'明細'!$M$4:$M$3003,B$3)) | C22: =IF($A22="","",SUMIFS('記録'!$C$4:$C$2003,'記録'!$B$4:$B$2003,$A22,'記録'!$F$4:$F$2003,C$3)+SUMIFS('明細'!$T$4:$T$3003,'明細'!$S$4:$S$3003,$A22,'明細'!$M$4:$M$3003,C$3)) | D22: =IF($A22="","",SUMIFS('記録'!$C$4:$C$2003,'記録'!$B$4:$B$2003,$A22,'記録'!$F$4:$F$2003,D$3)+SUMIFS('明細'!$T$4:$T$3003,'明細'!$S$4:$S$3003,$A22,'明細'!$M$4:$M$3003,D$3)) | E22: =IF($A22="","",SUMIFS('記録'!$C$4:$C$2003,'記録'!$B$4:$B$2003,$A22,'記録'!$F$4:$F$2003,E$3)+SUMIFS('明細'!$T$4:$T$3003,'明細'!$S$4:$S$3003,$A22,'明細'!$M$4:$M$3003,E$3)) | F22: =IF($A22="","",SUMIFS('記録'!$C$4:$C$2003,'記録'!$B$4:$B$2003,$A22,'記録'!$F$4:$F$2003,F$3)+SUMIFS('明細'!$T$4:$T$3003,'明細'!$S$4:$S$3003,$A22,'明細'!$M$4:$M$3003,F$3)) | G22: =IF($A22="","",SUMIFS('記録'!$C$4:$C$2003,'記録'!$B$4:$B$2003,$A22,'記録'!$F$4:$F$2003,G$3)+SUMIFS('明細'!$T$4:$T$3003,'明細'!$S$4:$S$3003,$A22,'明細'!$M$4:$M$3003,G$3)) | H22: =IF($A22="","",SUMIFS('記録'!$C$4:$C$2003,'記録'!$B$4:$B$2003,$A22,'記録'!$F$4:$F$2003,H$3)+SUMIFS('明細'!$T$4:$T$3003,'明細'!$S$4:$S$3003,$A22,'明細'!$M$4:$M$3003,H$3)) | I22: =IF($A22="","",SUMIFS('記録'!$C$4:$C$2003,'記録'!$B$4:$B$2003,$A22,'記録'!$F$4:$F$2003,I$3)+SUMIFS('明細'!$T$4:$T$3003,'明細'!$S$4:$S$3003,$A22,'明細'!$M$4:$M$3003,I$3)) | ... M22: =IF($A22="","",SUMIFS('記録'!$C$4:$C$2003,'記録'!$B$4:$B$2003,$A22,'記録'!$F$4:$F$2003,M$3)+SUMIFS('明細'!$T$4:$T$3003,'明細'!$S$4:$S$3003,$A22,'明細'!$M$4:$M$3003,M$3)) | N22: =IF($A22="","",SUM(B22:M22)) | O22: =IF(($A22="")+(SUM($B$77:$M$77)=0),"",N22/SUM($B$77:$M$77)) | P22: =IF($A22="","",'入力'!B46*12) | Q22: =IF($A22="","",P22-N22) | R22: ='入力'!C46&"" | S22: ='入力'!E46&""
A23: =IF('入力'!A47="","",'入力'!A47) | B23: =IF($A23="","",SUMIFS('記録'!$C$4:$C$2003,'記録'!$B$4:$B$2003,$A23,'記録'!$F$4:$F$2003,B$3)+SUMIFS('明細'!$T$4:$T$3003,'明細'!$S$4:$S$3003,$A23,'明細'!$M$4:$M$3003,B$3)) | C23: =IF($A23="","",SUMIFS('記録'!$C$4:$C$2003,'記録'!$B$4:$B$2003,$A23,'記録'!$F$4:$F$2003,C$3)+SUMIFS('明細'!$T$4:$T$3003,'明細'!$S$4:$S$3003,$A23,'明細'!$M$4:$M$3003,C$3)) | D23: =IF($A23="","",SUMIFS('記録'!$C$4:$C$2003,'記録'!$B$4:$B$2003,$A23,'記録'!$F$4:$F$2003,D$3)+SUMIFS('明細'!$T$4:$T$3003,'明細'!$S$4:$S$3003,$A23,'明細'!$M$4:$M$3003,D$3)) | E23: =IF($A23="","",SUMIFS('記録'!$C$4:$C$2003,'記録'!$B$4:$B$2003,$A23,'記録'!$F$4:$F$2003,E$3)+SUMIFS('明細'!$T$4:$T$3003,'明細'!$S$4:$S$3003,$A23,'明細'!$M$4:$M$3003,E$3)) | F23: =IF($A23="","",SUMIFS('記録'!$C$4:$C$2003,'記録'!$B$4:$B$2003,$A23,'記録'!$F$4:$F$2003,F$3)+SUMIFS('明細'!$T$4:$T$3003,'明細'!$S$4:$S$3003,$A23,'明細'!$M$4:$M$3003,F$3)) | G23: =IF($A23="","",SUMIFS('記録'!$C$4:$C$2003,'記録'!$B$4:$B$2003,$A23,'記録'!$F$4:$F$2003,G$3)+SUMIFS('明細'!$T$4:$T$3003,'明細'!$S$4:$S$3003,$A23,'明細'!$M$4:$M$3003,G$3)) | H23: =IF($A23="","",SUMIFS('記録'!$C$4:$C$2003,'記録'!$B$4:$B$2003,$A23,'記録'!$F$4:$F$2003,H$3)+SUMIFS('明細'!$T$4:$T$3003,'明細'!$S$4:$S$3003,$A23,'明細'!$M$4:$M$3003,H$3)) | I23: =IF($A23="","",SUMIFS('記録'!$C$4:$C$2003,'記録'!$B$4:$B$2003,$A23,'記録'!$F$4:$F$2003,I$3)+SUMIFS('明細'!$T$4:$T$3003,'明細'!$S$4:$S$3003,$A23,'明細'!$M$4:$M$3003,I$3)) | ... M23: =IF($A23="","",SUMIFS('記録'!$C$4:$C$2003,'記録'!$B$4:$B$2003,$A23,'記録'!$F$4:$F$2003,M$3)+SUMIFS('明細'!$T$4:$T$3003,'明細'!$S$4:$S$3003,$A23,'明細'!$M$4:$M$3003,M$3)) | N23: =IF($A23="","",SUM(B23:M23)) | O23: =IF(($A23="")+(SUM($B$77:$M$77)=0),"",N23/SUM($B$77:$M$77)) | P23: =IF($A23="","",'入力'!B47*12) | Q23: =IF($A23="","",P23-N23) | R23: ='入力'!C47&"" | S23: ='入力'!E47&""
A24: =IF('入力'!A48="","",'入力'!A48) | B24: =IF($A24="","",SUMIFS('記録'!$C$4:$C$2003,'記録'!$B$4:$B$2003,$A24,'記録'!$F$4:$F$2003,B$3)+SUMIFS('明細'!$T$4:$T$3003,'明細'!$S$4:$S$3003,$A24,'明細'!$M$4:$M$3003,B$3)) | C24: =IF($A24="","",SUMIFS('記録'!$C$4:$C$2003,'記録'!$B$4:$B$2003,$A24,'記録'!$F$4:$F$2003,C$3)+SUMIFS('明細'!$T$4:$T$3003,'明細'!$S$4:$S$3003,$A24,'明細'!$M$4:$M$3003,C$3)) | D24: =IF($A24="","",SUMIFS('記録'!$C$4:$C$2003,'記録'!$B$4:$B$2003,$A24,'記録'!$F$4:$F$2003,D$3)+SUMIFS('明細'!$T$4:$T$3003,'明細'!$S$4:$S$3003,$A24,'明細'!$M$4:$M$3003,D$3)) | E24: =IF($A24="","",SUMIFS('記録'!$C$4:$C$2003,'記録'!$B$4:$B$2003,$A24,'記録'!$F$4:$F$2003,E$3)+SUMIFS('明細'!$T$4:$T$3003,'明細'!$S$4:$S$3003,$A24,'明細'!$M$4:$M$3003,E$3)) | F24: =IF($A24="","",SUMIFS('記録'!$C$4:$C$2003,'記録'!$B$4:$B$2003,$A24,'記録'!$F$4:$F$2003,F$3)+SUMIFS('明細'!$T$4:$T$3003,'明細'!$S$4:$S$3003,$A24,'明細'!$M$4:$M$3003,F$3)) | G24: =IF($A24="","",SUMIFS('記録'!$C$4:$C$2003,'記録'!$B$4:$B$2003,$A24,'記録'!$F$4:$F$2003,G$3)+SUMIFS('明細'!$T$4:$T$3003,'明細'!$S$4:$S$3003,$A24,'明細'!$M$4:$M$3003,G$3)) | H24: =IF($A24="","",SUMIFS('記録'!$C$4:$C$2003,'記録'!$B$4:$B$2003,$A24,'記録'!$F$4:$F$2003,H$3)+SUMIFS('明細'!$T$4:$T$3003,'明細'!$S$4:$S$3003,$A24,'明細'!$M$4:$M$3003,H$3)) | I24: =IF($A24="","",SUMIFS('記録'!$C$4:$C$2003,'記録'!$B$4:$B$2003,$A24,'記録'!$F$4:$F$2003,I$3)+SUMIFS('明細'!$T$4:$T$3003,'明細'!$S$4:$S$3003,$A24,'明細'!$M$4:$M$3003,I$3)) | ... M24: =IF($A24="","",SUMIFS('記録'!$C$4:$C$2003,'記録'!$B$4:$B$2003,$A24,'記録'!$F$4:$F$2003,M$3)+SUMIFS('明細'!$T$4:$T$3003,'明細'!$S$4:$S$3003,$A24,'明細'!$M$4:$M$3003,M$3)) | N24: =IF($A24="","",SUM(B24:M24)) | O24: =IF(($A24="")+(SUM($B$77:$M$77)=0),"",N24/SUM($B$77:$M$77)) | P24: =IF($A24="","",'入力'!B48*12) | Q24: =IF($A24="","",P24-N24) | R24: ='入力'!C48&"" | S24: ='入力'!E48&""
A25: =IF('入力'!A49="","",'入力'!A49) | B25: =IF($A25="","",SUMIFS('記録'!$C$4:$C$2003,'記録'!$B$4:$B$2003,$A25,'記録'!$F$4:$F$2003,B$3)+SUMIFS('明細'!$T$4:$T$3003,'明細'!$S$4:$S$3003,$A25,'明細'!$M$4:$M$3003,B$3)) | C25: =IF($A25="","",SUMIFS('記録'!$C$4:$C$2003,'記録'!$B$4:$B$2003,$A25,'記録'!$F$4:$F$2003,C$3)+SUMIFS('明細'!$T$4:$T$3003,'明細'!$S$4:$S$3003,$A25,'明細'!$M$4:$M$3003,C$3)) | D25: =IF($A25="","",SUMIFS('記録'!$C$4:$C$2003,'記録'!$B$4:$B$2003,$A25,'記録'!$F$4:$F$2003,D$3)+SUMIFS('明細'!$T$4:$T$3003,'明細'!$S$4:$S$3003,$A25,'明細'!$M$4:$M$3003,D$3)) | E25: =IF($A25="","",SUMIFS('記録'!$C$4:$C$2003,'記録'!$B$4:$B$2003,$A25,'記録'!$F$4:$F$2003,E$3)+SUMIFS('明細'!$T$4:$T$3003,'明細'!$S$4:$S$3003,$A25,'明細'!$M$4:$M$3003,E$3)) | F25: =IF($A25="","",SUMIFS('記録'!$C$4:$C$2003,'記録'!$B$4:$B$2003,$A25,'記録'!$F$4:$F$2003,F$3)+SUMIFS('明細'!$T$4:$T$3003,'明細'!$S$4:$S$3003,$A25,'明細'!$M$4:$M$3003,F$3)) | G25: =IF($A25="","",SUMIFS('記録'!$C$4:$C$2003,'記録'!$B$4:$B$2003,$A25,'記録'!$F$4:$F$2003,G$3)+SUMIFS('明細'!$T$4:$T$3003,'明細'!$S$4:$S$3003,$A25,'明細'!$M$4:$M$3003,G$3)) | H25: =IF($A25="","",SUMIFS('記録'!$C$4:$C$2003,'記録'!$B$4:$B$2003,$A25,'記録'!$F$4:$F$2003,H$3)+SUMIFS('明細'!$T$4:$T$3003,'明細'!$S$4:$S$3003,$A25,'明細'!$M$4:$M$3003,H$3)) | I25: =IF($A25="","",SUMIFS('記録'!$C$4:$C$2003,'記録'!$B$4:$B$2003,$A25,'記録'!$F$4:$F$2003,I$3)+SUMIFS('明細'!$T$4:$T$3003,'明細'!$S$4:$S$3003,$A25,'明細'!$M$4:$M$3003,I$3)) | ... M25: =IF($A25="","",SUMIFS('記録'!$C$4:$C$2003,'記録'!$B$4:$B$2003,$A25,'記録'!$F$4:$F$2003,M$3)+SUMIFS('明細'!$T$4:$T$3003,'明細'!$S$4:$S$3003,$A25,'明細'!$M$4:$M$3003,M$3)) | N25: =IF($A25="","",SUM(B25:M25)) | O25: =IF(($A25="")+(SUM($B$77:$M$77)=0),"",N25/SUM($B$77:$M$77)) | P25: =IF($A25="","",'入力'!B49*12) | Q25: =IF($A25="","",P25-N25) | R25: ='入力'!C49&"" | S25: ='入力'!E49&""
A26: =IF('入力'!A50="","",'入力'!A50) | B26: =IF($A26="","",SUMIFS('記録'!$C$4:$C$2003,'記録'!$B$4:$B$2003,$A26,'記録'!$F$4:$F$2003,B$3)+SUMIFS('明細'!$T$4:$T$3003,'明細'!$S$4:$S$3003,$A26,'明細'!$M$4:$M$3003,B$3)) | C26: =IF($A26="","",SUMIFS('記録'!$C$4:$C$2003,'記録'!$B$4:$B$2003,$A26,'記録'!$F$4:$F$2003,C$3)+SUMIFS('明細'!$T$4:$T$3003,'明細'!$S$4:$S$3003,$A26,'明細'!$M$4:$M$3003,C$3)) | D26: =IF($A26="","",SUMIFS('記録'!$C$4:$C$2003,'記録'!$B$4:$B$2003,$A26,'記録'!$F$4:$F$2003,D$3)+SUMIFS('明細'!$T$4:$T$3003,'明細'!$S$4:$S$3003,$A26,'明細'!$M$4:$M$3003,D$3)) | E26: =IF($A26="","",SUMIFS('記録'!$C$4:$C$2003,'記録'!$B$4:$B$2003,$A26,'記録'!$F$4:$F$2003,E$3)+SUMIFS('明細'!$T$4:$T$3003,'明細'!$S$4:$S$3003,$A26,'明細'!$M$4:$M$3003,E$3)) | F26: =IF($A26="","",SUMIFS('記録'!$C$4:$C$2003,'記録'!$B$4:$B$2003,$A26,'記録'!$F$4:$F$2003,F$3)+SUMIFS('明細'!$T$4:$T$3003,'明細'!$S$4:$S$3003,$A26,'明細'!$M$4:$M$3003,F$3)) | G26: =IF($A26="","",SUMIFS('記録'!$C$4:$C$2003,'記録'!$B$4:$B$2003,$A26,'記録'!$F$4:$F$2003,G$3)+SUMIFS('明細'!$T$4:$T$3003,'明細'!$S$4:$S$3003,$A26,'明細'!$M$4:$M$3003,G$3)) | H26: =IF($A26="","",SUMIFS('記録'!$C$4:$C$2003,'記録'!$B$4:$B$2003,$A26,'記録'!$F$4:$F$2003,H$3)+SUMIFS('明細'!$T$4:$T$3003,'明細'!$S$4:$S$3003,$A26,'明細'!$M$4:$M$3003,H$3)) | I26: =IF($A26="","",SUMIFS('記録'!$C$4:$C$2003,'記録'!$B$4:$B$2003,$A26,'記録'!$F$4:$F$2003,I$3)+SUMIFS('明細'!$T$4:$T$3003,'明細'!$S$4:$S$3003,$A26,'明細'!$M$4:$M$3003,I$3)) | ... M26: =IF($A26="","",SUMIFS('記録'!$C$4:$C$2003,'記録'!$B$4:$B$2003,$A26,'記録'!$F$4:$F$2003,M$3)+SUMIFS('明細'!$T$4:$T$3003,'明細'!$S$4:$S$3003,$A26,'明細'!$M$4:$M$3003,M$3)) | N26: =IF($A26="","",SUM(B26:M26)) | O26: =IF(($A26="")+(SUM($B$77:$M$77)=0),"",N26/SUM($B$77:$M$77)) | P26: =IF($A26="","",'入力'!B50*12) | Q26: =IF($A26="","",P26-N26) | R26: ='入力'!C50&"" | S26: ='入力'!E50&""
A27: =IF('入力'!A51="","",'入力'!A51) | B27: =IF($A27="","",SUMIFS('記録'!$C$4:$C$2003,'記録'!$B$4:$B$2003,$A27,'記録'!$F$4:$F$2003,B$3)+SUMIFS('明細'!$T$4:$T$3003,'明細'!$S$4:$S$3003,$A27,'明細'!$M$4:$M$3003,B$3)) | C27: =IF($A27="","",SUMIFS('記録'!$C$4:$C$2003,'記録'!$B$4:$B$2003,$A27,'記録'!$F$4:$F$2003,C$3)+SUMIFS('明細'!$T$4:$T$3003,'明細'!$S$4:$S$3003,$A27,'明細'!$M$4:$M$3003,C$3)) | D27: =IF($A27="","",SUMIFS('記録'!$C$4:$C$2003,'記録'!$B$4:$B$2003,$A27,'記録'!$F$4:$F$2003,D$3)+SUMIFS('明細'!$T$4:$T$3003,'明細'!$S$4:$S$3003,$A27,'明細'!$M$4:$M$3003,D$3)) | E27: =IF($A27="","",SUMIFS('記録'!$C$4:$C$2003,'記録'!$B$4:$B$2003,$A27,'記録'!$F$4:$F$2003,E$3)+SUMIFS('明細'!$T$4:$T$3003,'明細'!$S$4:$S$3003,$A27,'明細'!$M$4:$M$3003,E$3)) | F27: =IF($A27="","",SUMIFS('記録'!$C$4:$C$2003,'記録'!$B$4:$B$2003,$A27,'記録'!$F$4:$F$2003,F$3)+SUMIFS('明細'!$T$4:$T$3003,'明細'!$S$4:$S$3003,$A27,'明細'!$M$4:$M$3003,F$3)) | G27: =IF($A27="","",SUMIFS('記録'!$C$4:$C$2003,'記録'!$B$4:$B$2003,$A27,'記録'!$F$4:$F$2003,G$3)+SUMIFS('明細'!$T$4:$T$3003,'明細'!$S$4:$S$3003,$A27,'明細'!$M$4:$M$3003,G$3)) | H27: =IF($A27="","",SUMIFS('記録'!$C$4:$C$2003,'記録'!$B$4:$B$2003,$A27,'記録'!$F$4:$F$2003,H$3)+SUMIFS('明細'!$T$4:$T$3003,'明細'!$S$4:$S$3003,$A27,'明細'!$M$4:$M$3003,H$3)) | I27: =IF($A27="","",SUMIFS('記録'!$C$4:$C$2003,'記録'!$B$4:$B$2003,$A27,'記録'!$F$4:$F$2003,I$3)+SUMIFS('明細'!$T$4:$T$3003,'明細'!$S$4:$S$3003,$A27,'明細'!$M$4:$M$3003,I$3)) | ... M27: =IF($A27="","",SUMIFS('記録'!$C$4:$C$2003,'記録'!$B$4:$B$2003,$A27,'記録'!$F$4:$F$2003,M$3)+SUMIFS('明細'!$T$4:$T$3003,'明細'!$S$4:$S$3003,$A27,'明細'!$M$4:$M$3003,M$3)) | N27: =IF($A27="","",SUM(B27:M27)) | O27: =IF(($A27="")+(SUM($B$77:$M$77)=0),"",N27/SUM($B$77:$M$77)) | P27: =IF($A27="","",'入力'!B51*12) | Q27: =IF($A27="","",P27-N27) | R27: ='入力'!C51&"" | S27: ='入力'!E51&""
A28: =IF('入力'!A52="","",'入力'!A52) | B28: =IF($A28="","",SUMIFS('記録'!$C$4:$C$2003,'記録'!$B$4:$B$2003,$A28,'記録'!$F$4:$F$2003,B$3)+SUMIFS('明細'!$T$4:$T$3003,'明細'!$S$4:$S$3003,$A28,'明細'!$M$4:$M$3003,B$3)) | C28: =IF($A28="","",SUMIFS('記録'!$C$4:$C$2003,'記録'!$B$4:$B$2003,$A28,'記録'!$F$4:$F$2003,C$3)+SUMIFS('明細'!$T$4:$T$3003,'明細'!$S$4:$S$3003,$A28,'明細'!$M$4:$M$3003,C$3)) | D28: =IF($A28="","",SUMIFS('記録'!$C$4:$C$2003,'記録'!$B$4:$B$2003,$A28,'記録'!$F$4:$F$2003,D$3)+SUMIFS('明細'!$T$4:$T$3003,'明細'!$S$4:$S$3003,$A28,'明細'!$M$4:$M$3003,D$3)) | E28: =IF($A28="","",SUMIFS('記録'!$C$4:$C$2003,'記録'!$B$4:$B$2003,$A28,'記録'!$F$4:$F$2003,E$3)+SUMIFS('明細'!$T$4:$T$3003,'明細'!$S$4:$S$3003,$A28,'明細'!$M$4:$M$3003,E$3)) | F28: =IF($A28="","",SUMIFS('記録'!$C$4:$C$2003,'記録'!$B$4:$B$2003,$A28,'記録'!$F$4:$F$2003,F$3)+SUMIFS('明細'!$T$4:$T$3003,'明細'!$S$4:$S$3003,$A28,'明細'!$M$4:$M$3003,F$3)) | G28: =IF($A28="","",SUMIFS('記録'!$C$4:$C$2003,'記録'!$B$4:$B$2003,$A28,'記録'!$F$4:$F$2003,G$3)+SUMIFS('明細'!$T$4:$T$3003,'明細'!$S$4:$S$3003,$A28,'明細'!$M$4:$M$3003,G$3)) | H28: =IF($A28="","",SUMIFS('記録'!$C$4:$C$2003,'記録'!$B$4:$B$2003,$A28,'記録'!$F$4:$F$2003,H$3)+SUMIFS('明細'!$T$4:$T$3003,'明細'!$S$4:$S$3003,$A28,'明細'!$M$4:$M$3003,H$3)) | I28: =IF($A28="","",SUMIFS('記録'!$C$4:$C$2003,'記録'!$B$4:$B$2003,$A28,'記録'!$F$4:$F$2003,I$3)+SUMIFS('明細'!$T$4:$T$3003,'明細'!$S$4:$S$3003,$A28,'明細'!$M$4:$M$3003,I$3)) | ... M28: =IF($A28="","",SUMIFS('記録'!$C$4:$C$2003,'記録'!$B$4:$B$2003,$A28,'記録'!$F$4:$F$2003,M$3)+SUMIFS('明細'!$T$4:$T$3003,'明細'!$S$4:$S$3003,$A28,'明細'!$M$4:$M$3003,M$3)) | N28: =IF($A28="","",SUM(B28:M28)) | O28: =IF(($A28="")+(SUM($B$77:$M$77)=0),"",N28/SUM($B$77:$M$77)) | P28: =IF($A28="","",'入力'!B52*12) | Q28: =IF($A28="","",P28-N28) | R28: ='入力'!C52&"" | S28: ='入力'!E52&""
A29: 固定費の合計 | B29: =SUM(B17:B28) | C29: =SUM(C17:C28) | D29: =SUM(D17:D28) | E29: =SUM(E17:E28) | F29: =SUM(F17:F28) | G29: =SUM(G17:G28) | H29: =SUM(H17:H28) | I29: =SUM(I17:I28) | ... N29: =SUM(N17:N28) | O29: =IF(SUM($B$77:$M$77)=0,"",N29/SUM($B$77:$M$77)) | P29: =SUM(P17:P28) | Q29: =P29-N29
A30: □ 暮らしの費用
A31: =IF('入力'!A54="","",'入力'!A54) | B31: =IF($A31="","",SUMIFS('記録'!$C$4:$C$2003,'記録'!$B$4:$B$2003,$A31,'記録'!$F$4:$F$2003,B$3)+SUMIFS('明細'!$T$4:$T$3003,'明細'!$S$4:$S$3003,$A31,'明細'!$M$4:$M$3003,B$3)) | C31: =IF($A31="","",SUMIFS('記録'!$C$4:$C$2003,'記録'!$B$4:$B$2003,$A31,'記録'!$F$4:$F$2003,C$3)+SUMIFS('明細'!$T$4:$T$3003,'明細'!$S$4:$S$3003,$A31,'明細'!$M$4:$M$3003,C$3)) | D31: =IF($A31="","",SUMIFS('記録'!$C$4:$C$2003,'記録'!$B$4:$B$2003,$A31,'記録'!$F$4:$F$2003,D$3)+SUMIFS('明細'!$T$4:$T$3003,'明細'!$S$4:$S$3003,$A31,'明細'!$M$4:$M$3003,D$3)) | E31: =IF($A31="","",SUMIFS('記録'!$C$4:$C$2003,'記録'!$B$4:$B$2003,$A31,'記録'!$F$4:$F$2003,E$3)+SUMIFS('明細'!$T$4:$T$3003,'明細'!$S$4:$S$3003,$A31,'明細'!$M$4:$M$3003,E$3)) | F31: =IF($A31="","",SUMIFS('記録'!$C$4:$C$2003,'記録'!$B$4:$B$2003,$A31,'記録'!$F$4:$F$2003,F$3)+SUMIFS('明細'!$T$4:$T$3003,'明細'!$S$4:$S$3003,$A31,'明細'!$M$4:$M$3003,F$3)) | G31: =IF($A31="","",SUMIFS('記録'!$C$4:$C$2003,'記録'!$B$4:$B$2003,$A31,'記録'!$F$4:$F$2003,G$3)+SUMIFS('明細'!$T$4:$T$3003,'明細'!$S$4:$S$3003,$A31,'明細'!$M$4:$M$3003,G$3)) | H31: =IF($A31="","",SUMIFS('記録'!$C$4:$C$2003,'記録'!$B$4:$B$2003,$A31,'記録'!$F$4:$F$2003,H$3)+SUMIFS('明細'!$T$4:$T$3003,'明細'!$S$4:$S$3003,$A31,'明細'!$M$4:$M$3003,H$3)) | I31: =IF($A31="","",SUMIFS('記録'!$C$4:$C$2003,'記録'!$B$4:$B$2003,$A31,'記録'!$F$4:$F$2003,I$3)+SUMIFS('明細'!$T$4:$T$3003,'明細'!$S$4:$S$3003,$A31,'明細'!$M$4:$M$3003,I$3)) | ... M31: =IF($A31="","",SUMIFS('記録'!$C$4:$C$2003,'記録'!$B$4:$B$2003,$A31,'記録'!$F$4:$F$2003,M$3)+SUMIFS('明細'!$T$4:$T$3003,'明細'!$S$4:$S$3003,$A31,'明細'!$M$4:$M$3003,M$3)) | N31: =IF($A31="","",SUM(B31:M31)) | O31: =IF(($A31="")+(SUM($B$77:$M$77)=0),"",N31/SUM($B$77:$M$77)) | P31: =IF($A31="","",'入力'!B54*12) | Q31: =IF($A31="","",P31-N31) | R31: ='入力'!C54&"" | S31: ='入力'!E54&""
